BEGIN:VCALENDAR
VERSION:2.0
PRODID:-//ChamberMaster//Event Calendar 2.0//EN
METHOD:PUBLISH
X-PUBLISHED-TTL:P3D
REFRESH-INTERVAL:P3D
CALSCALE:GREGORIAN
BEGIN:VEVENT
DTSTART:20240914T220000Z
DTEND:20240915T020000Z
X-MICROSOFT-CDO-ALLDAYEVENT:FALSE
SUMMARY:Callahan House ArtWalk Open House
DESCRIPTION:ArtWalk Open House   Saturday\, September 14\, 2024\n\nCallahan House & Garden will be open as part of ArtWalk on Main\, hosted by Firehouse Art Center. More than a dozen local artists will be selling their work in the house and garden\, with live music in the garden.\n\nFree and open to the public. No registration required.\n\n\n	September 14\, 2024\, from 4:00pm   8:00pm
X-ALT-DESC;FMTTYPE=text/html:<h3>ArtWalk Open House &ndash\; Saturday\, September 14\, 2024</h3>\n\n<p>Callahan House &amp\; Garden will be open as part of ArtWalk on Main\, hosted by Firehouse Art Center. More than a dozen local artists will be selling their work in the house and garden\, with live music in the garden.</p>\n\n<p>Free and open to the public. No registration required.</p>\n\n<ul>\n	<li>September 14\, 2024\, from 4:00pm &ndash\; 8:00pm</li>\n</ul>\n
LOCATION:Callahan House 312 Terry St Longmont\, CO 80501
UID:e.3083.10197
SEQUENCE:3
DTSTAMP:20260422T013624Z
URL:https://members.longmontchamber.org/events/details/callahan-house-artwalk-open-house-10197
END:VEVENT

END:VCALENDAR
