BEGIN:VCALENDAR
VERSION:2.0
PRODID:-//ChamberMaster//Event Calendar 2.0//EN
METHOD:PUBLISH
X-PUBLISHED-TTL:P3D
REFRESH-INTERVAL:P3D
CALSCALE:GREGORIAN
BEGIN:VEVENT
DTSTART:20240817T160000Z
DTEND:20240817T190000Z
X-MICROSOFT-CDO-ALLDAYEVENT:FALSE
SUMMARY:Callahan House Club-A-Fair 2024
DESCRIPTION:Looking for a local club to join? Come explore Callahan House's Club-A-Fair event and learn about the many services and social clubs Longmont has to offer. This is a market style event with clubs sharing info from booths in the house and garden. \n\nFree and open to the public. No registration required.
X-ALT-DESC;FMTTYPE=text/html:<p>Looking for a local club to join? Come explore Callahan House&#39\;s Club-A-Fair event and learn about the many services and social clubs Longmont has to offer. This is a market style event with clubs sharing info from booths in the house and garden.&nbsp\;</p>\n\n<p>Free and open to the public. No registration required.</p>\n
LOCATION:Callahan House 312 Terry St Longmont\, CO 80501
UID:e.3083.10172
SEQUENCE:3
DTSTAMP:20260422T032153Z
URL:https://members.longmontchamber.org/events/details/callahan-house-club-a-fair-2024-10172
END:VEVENT

END:VCALENDAR
