BEGIN:VCALENDAR
VERSION:2.0
PRODID:-//ChamberMaster//Event Calendar 2.0//EN
METHOD:PUBLISH
X-PUBLISHED-TTL:P3D
REFRESH-INTERVAL:P3D
CALSCALE:GREGORIAN
BEGIN:VEVENT
DTSTART:20250724T230000Z
DTEND:20250725T010000Z
X-MICROSOFT-CDO-ALLDAYEVENT:FALSE
SUMMARY:Callahan House Summer Open House
DESCRIPTION:Summer Open House\n\n\nFree and open to the public. No registration required. \n\nLearn about local history at one of Longmont's most treasured historic sites. Self-tour through Callahan House with handouts and historical information provided.\n\n \n\nAt the Open House:\n\nLearn how you can make an impact! Callahan House is offering a new program with opportunity for individuals and organizations to take a special role in supporting preservation and restoration of this historic gem in the heart of Longmont.
X-ALT-DESC;FMTTYPE=text/html:<div>\n<p><br />\n<span style="font-size:22px">Summer Open House</span></p>\n</div>\n\n<p><span style="font-size:20px\;"><span style="color:rgb(194\, 81\, 46)">Free and open to the public. No registration required.&nbsp\;</span></span></p>\n\n<p><span style="font-size:20px\;">Learn about local history at one of Longmont&rsquo\;s most treasured historic sites. Self-tour through Callahan House with handouts and historical information provided.</span></p>\n\n<p>&nbsp\;</p>\n\n<p><span style="font-size:20px\;">At the Open House:</span></p>\n\n<p><span style="font-size:20px\;">Learn how you can make an impact! Callahan House is offering a new program with opportunity for individuals and organizations to take a special role in supporting preservation and restoration of this historic gem in the heart of Longmont.</span></p>\n
LOCATION:Callahan House
UID:e.3083.13549
SEQUENCE:3
DTSTAMP:20260421T111453Z
URL:https://members.longmontchamber.org/events/details/callahan-house-summer-open-house-07-24-2025-13549
END:VEVENT

END:VCALENDAR
