BEGIN:VCALENDAR
VERSION:2.0
PRODID:-//ChamberMaster//Event Calendar 2.0//EN
METHOD:PUBLISH
X-PUBLISHED-TTL:P3D
REFRESH-INTERVAL:P3D
CALSCALE:GREGORIAN
BEGIN:VEVENT
DTSTART:20250424T230000Z
DTEND:20250425T010000Z
X-MICROSOFT-CDO-ALLDAYEVENT:FALSE
SUMMARY:Callahan Spring Open House
DESCRIPTION:Spring Open House\n\n\nThursday\, April 24\, 2025\, from 5:00pm   7:00pm\n\n \n\nFree and open to the public. No registration required. \n\nLearn about local history at one of Longmont's most treasured historic sites. Self-tour through Callahan House with handouts and historical information provided.\n\nAt the Spring Open House:\n\nLearn how you can make an impact! Callahan House is unveiling a new program with opportunity for individuals and organizations to take a special role in supporting preservation and restoration of this historic gem in the heart of Longmont.
X-ALT-DESC;FMTTYPE=text/html:<div>\n<p><span style="font-size:22px">Spring Open House</span></p>\n</div>\n\n<div>Thursday\, April 24\, 2025\, from 5:00pm &ndash\; 7:00pm</div>\n\n<div>&nbsp\;</div>\n\n<p><span style="color:rgb(194\, 81\, 46)">Free and open to the public. No registration required.&nbsp\;</span></p>\n\n<p>Learn about local history at one of Longmont&rsquo\;s most treasured historic sites. Self-tour through Callahan House with handouts and historical information provided.</p>\n\n<p>At the Spring Open House:</p>\n\n<p>Learn how you can make an impact! Callahan House is unveiling a new program with opportunity for individuals and organizations to take a special role in supporting preservation and restoration of this historic gem in the heart of Longmont.</p>\n
LOCATION:Callahan House
UID:e.3083.13312
SEQUENCE:3
DTSTAMP:20260421T142558Z
URL:https://members.longmontchamber.org/events/details/callahan-spring-open-house-13312
END:VEVENT

END:VCALENDAR
