BEGIN:VCALENDAR
VERSION:2.0
PRODID:-//ChamberMaster//Event Calendar 2.0//EN
METHOD:PUBLISH
X-PUBLISHED-TTL:P3D
REFRESH-INTERVAL:P3D
CALSCALE:GREGORIAN
BEGIN:VEVENT
DTSTART:20250606T140000Z
DTEND:20250606T150000Z
X-MICROSOFT-CDO-ALLDAYEVENT:FALSE
SUMMARY:CANCELED - 6-6-25 -Public Policy Committee
DESCRIPTION:The Chamber advocates for business. It is a steward to affect positive change influencing public policy and economic sustainability\, helping to shape the community.\n\nPublic Policy meets monthly and holds ongoing educational forums for members and non-members to attend to learn about key issues that affect business.\n\nThe June Meeting will feature a presentation from Matthew Popkin and Chris McGilvray\, Chair and Vice Chair of the Longmont Urban Renewal Authority (LURA).
X-ALT-DESC;FMTTYPE=text/html:<p>The Chamber advocates for business. It is a steward to affect positive change influencing public policy and economic sustainability\, helping to shape the community.</p>\n\n<p>Public Policy meets monthly and holds ongoing educational forums for members and non-members to attend to learn about key issues that affect business.<br />\nThe June Meeting will feature a presentation from Matthew Popkin and Chris McGilvray\, Chair and Vice Chair of the Longmont Urban Renewal Authority (LURA).</p>\n
LOCATION:Currently meeting hybrid. In-person in the Longmont Chamber conference room or via Zoom.
UID:e.3083.3718
SEQUENCE:3
DTSTAMP:20260421T111220Z
URL:https://members.longmontchamber.org/events/details/canceled-6-6-25-public-policy-committee-3718
END:VEVENT

END:VCALENDAR
