BEGIN:VCALENDAR
VERSION:2.0
PRODID:-//ChamberMaster//Event Calendar 2.0//EN
METHOD:PUBLISH
X-PUBLISHED-TTL:P3D
REFRESH-INTERVAL:P3D
CALSCALE:GREGORIAN
BEGIN:VEVENT
DTSTART:20250624T134500Z
DTEND:20250624T150000Z
X-MICROSOFT-CDO-ALLDAYEVENT:FALSE
SUMMARY:CANCELED! Coffee Chat at the Colorado Therapeutic Riding Center
DESCRIPTION:THIS EVENT HAS BEEN CANCELED\n\n\n\nThis is an opportunity for our fellow chamber members to come out to CTRC to learn more about our mission and our work as well as ways to partner including sponsorship and volunteering\, and network with other local business people. A tour of the center will be included. Coffee and pastries will be served! \n\n\n\nRSVP Required: Natalee Roeder\, 720.336.1467
X-ALT-DESC;FMTTYPE=text/html:<br />\n<span style="font-size:20px\;"><strong><span style="font-size:24px\;">THIS EVENT HAS BEEN CANCELED</span></strong><br />\n<br />\n<span style="font-size:16px\;">This is an opportunity for our fellow chamber members to come out to CTRC to learn more about our mission and our work as well as ways to partner including sponsorship and volunteering\, and network with other local business people. A tour of the center will be included. Coffee and pastries will be served!&nbsp\;<br />\n<br />\n<strong>RSVP Required:</strong> Natalee Roeder\, 720.336.1467</span></span>
LOCATION:Colorado Therapeutic Riding Center
UID:e.3083.13324
SEQUENCE:3
DTSTAMP:20260421T111636Z
URL:https://members.longmontchamber.org/events/details/canceled-coffee-chat-at-the-colorado-therapeutic-riding-center-13324
END:VEVENT

END:VCALENDAR
