BEGIN:VCALENDAR
VERSION:2.0
PRODID:-//ChamberMaster//Event Calendar 2.0//EN
METHOD:PUBLISH
X-PUBLISHED-TTL:P3D
REFRESH-INTERVAL:P3D
CALSCALE:GREGORIAN
BEGIN:VEVENT
DTSTART:20191127T230000Z
DTEND:20191128T000000Z
X-MICROSOFT-CDO-ALLDAYEVENT:FALSE
SUMMARY:CANCELLED: Business Builders
DESCRIPTION:No meeting today due to holidays\n\nBusiness Builders is a Networking Group of the Longmont Chamber and is formatted as a Business Connection Group. The Business Builders Leads Group is based on friendship and the appreciation of each other's businesses. Most members have well established businesses and are able to share valuable business experience. Prominent Longmont professionals routinely visit the group to share their expertise.\n\nBusiness Builders meets the 2nd and 4th Wednesday of each month. \n\nOne representative from each industry may attend a Leads Group. You must contact Karin Snyder before attending:karinrsnyder@gmail.com or 303-709-8631.
X-ALT-DESC;FMTTYPE=text/html:<p><strong>No meeting today due to holidays</strong></p>\n\n<p><span style="font-size:12px\;"><span style="color: rgb(0\, 0\, 0)\; font-family: Verdana\;">Business Builders is a Networking Group of the Longmont Chamber and is formatted as a Business Connection Group. The Business Builders Leads Group is based on friendship and the appreciation of each other&rsquo\;s businesses. Most members have well established businesses and are able to share valuable business experience. Prominent Longmont professionals routinely visit the group to share their expertise.<br />\nBusiness Builders meets the 2nd and 4th Wednesday of each month.&nbsp\;<br />\nOne representative from each industry may attend a Leads Group. You must contact Karin Snyder before attending:</span></span><span style="font-family: calibri\, sans-serif\;"><span style="font-size: 11pt\;"><a href="mailto:karinrsnyder@gmail.com">karinrsnyder@gmail.com</a></span></span><span style="font-size:12px\;"><span style="color: rgb(0\, 0\, 0)\; font-family: Verdana\;">&nbsp\;or 303-709-8631.</span></span></p>\n
LOCATION:The Dickens Tavern 300 Main Street Longmont
UID:e.3083.5114
SEQUENCE:3
DTSTAMP:20260426T004302Z
URL:https://members.longmontchamber.org/events/details/cancelled-business-builders-5114
END:VEVENT

END:VCALENDAR
