BEGIN:VCALENDAR
VERSION:2.0
PRODID:-//ChamberMaster//Event Calendar 2.0//EN
METHOD:PUBLISH
X-PUBLISHED-TTL:P3D
REFRESH-INTERVAL:P3D
CALSCALE:GREGORIAN
BEGIN:VEVENT
DTSTART:20220112T230000Z
DTEND:20220113T000000Z
X-MICROSOFT-CDO-ALLDAYEVENT:FALSE
SUMMARY:Cancelled :: Business Builders\, Networking Group
DESCRIPTION:Business Builders is a Networking Group of the Longmont Chamber and is formatted as a Business Connection Group. The Business Builders Leads Group is based on friendship and the appreciation of each other's businesses. Most members have well established businesses and are able to share valuable business experience. Prominent Longmont professionals routinely visit the group to share their expertise.\n\nBusiness Builders meets the 2nd and 4th Wednesday of each month.\n\nOne representative from each industry may attend a Leads Group. You must contact Karin Snyder before attending: karinrsnyder@gmail.com or 303-709-8631.
X-ALT-DESC;FMTTYPE=text/html:<p>Business Builders is a Networking Group of the Longmont Chamber and is formatted as a Business Connection Group. The Business Builders Leads Group is based on friendship and the appreciation of each other&rsquo\;s businesses. Most members have well established businesses and are able to share valuable business experience. Prominent Longmont professionals routinely visit the group to share their expertise.</p>\n\n<p>Business Builders meets the 2nd and 4th Wednesday of each month.</p>\n\n<p>One representative from each industry may attend a Leads Group. You must contact Karin Snyder before attending:&nbsp\;<strong><a href="mailto:karinrsnyder@gmail.com">karinrsnyder@gmail.com</a></strong> or 303-709-8631.</p>\n
LOCATION:Currently meeting virtually.
UID:e.3083.5007
SEQUENCE:3
DTSTAMP:20260424T045210Z
URL:https://members.longmontchamber.org/events/details/cancelled-business-builders-networking-group-5007
END:VEVENT

END:VCALENDAR
