BEGIN:VCALENDAR
VERSION:2.0
PRODID:-//ChamberMaster//Event Calendar 2.0//EN
METHOD:PUBLISH
X-PUBLISHED-TTL:P3D
REFRESH-INTERVAL:P3D
CALSCALE:GREGORIAN
BEGIN:VEVENT
DTSTART:20200402T220000Z
DTEND:20200402T233000Z
X-MICROSOFT-CDO-ALLDAYEVENT:FALSE
SUMMARY:CANCELLED: Chamber Student Network
DESCRIPTION:***Due to the COVID 19 concern\, All Chamber events\, programs and committee meetings with 20+ in normal attendance are suspended\, cancelled or postponed at this time. \n\n\n\nChamber Student Network (CSN) is an energetic\, dedicated group of high school and post-secondary students who meet monthly to learn the value of the Chamber as a resource and in making connections to help them reach their education and business goals.\n\n\n\nJoin us and learn more about Chamber Student Network.\n\nStudents high school and above are invited to join CSN.
X-ALT-DESC;FMTTYPE=text/html:<span style="font-size:12px\;"><span style="color:#FF0000\;"><span style="font-family:tahoma\;">***Due to the COVID 19 concern\,&nbsp\;</span><span style="font-family:helvetica\,sans-serif\;">All Chamber events\, programs and committee meetings with 20+ in normal attendance are suspended\, cancelled or postponed at this time.&nbsp\;</span></span></span><br />\n<br />\n<span style="font-size:12px\;"><span style="font-family:tahoma\;"><span style="color:black\;">Chamber Student Network (CSN) is an energetic\, dedicated group of high school and post-secondary students who meet monthly to learn the value of the Chamber as a resource and in making connections to help them reach their education and business goals.</span><br />\n<br />\nJoin us and learn more about Chamber Student Network.<br />\nStudents high school and above are invited to join CSN.</span></span>
LOCATION:528 Main Street\, Longmont CO 80501
UID:e.3083.7397
SEQUENCE:3
DTSTAMP:20260425T152550Z
URL:https://members.longmontchamber.org/events/details/cancelled-chamber-student-network-7397
END:VEVENT

END:VCALENDAR
