BEGIN:VCALENDAR
VERSION:2.0
PRODID:-//ChamberMaster//Event Calendar 2.0//EN
METHOD:PUBLISH
X-PUBLISHED-TTL:P3D
REFRESH-INTERVAL:P3D
CALSCALE:GREGORIAN
BEGIN:VEVENT
DTSTART:20200408T143000Z
DTEND:20200408T160000Z
X-MICROSOFT-CDO-ALLDAYEVENT:FALSE
SUMMARY:CANCELLED: EDU: Identity Theft/Fraud
DESCRIPTION:Thank you for your interest in the Identity Theft/Fraud Workshop. As a precautionary measure to prevent the spread of COVID-19 virus\, the class on April 8\, 2020\, 8:30am-10am\,  will be cancelled.  Rescheduling for a future date will be taken into consideration. If you have questions please contact Rose@highplainsbank.com.\n\n\n\n\n\nLearn to identify varieties of fraud that target the elderly through mail\, telemarketing\, romance scams and online scams. Find out the different forms of identity theft\, ways to protect yourself against identity theft and what steps to take once your identity is stolen.\n\n \n\nDetective Desmond\, a 26 year veteran of law enforcement\, has been assigned to work Financial Crimes for the last fourteen years.\n\n \n\nPresented by Detective Steve Desmond of Longmont Police Dept.
X-ALT-DESC;FMTTYPE=text/html:<span style="background:yellow\;">Thank you for your interest in the Identity Theft/Fraud Workshop. As a precautionary measure to prevent the spread of COVID-19 virus\, the class on April 8\, 2020\, 8:30am-10am\,&nbsp\; will be cancelled.&nbsp\; Rescheduling for a future date will be taken into consideration. If you have questions please contact <a href="mailto:Rose@highplainsbank.com">Rose@highplainsbank.com</a>.</span><br />\n<br />\n<br />\n<span style="font-family:arial\,sans-serif\;"><span style="font-size:10.0pt\;">Learn to identify varieties of fraud that target the elderly through mail\, telemarketing\, romance scams and online scams. Find out the different forms of identity theft\, ways to protect yourself against identity theft and what steps to take once your identity is stolen.</span></span><br />\n&nbsp\;<br />\n<span style="font-family:arial\,sans-serif\;"><span style="font-size:10.0pt\;">Detective Desmond\, a 26 year veteran of law enforcement\, has been assigned to work Financial Crimes for the last fourteen years.</span></span><br />\n&nbsp\;<br />\n<span style="background:white\;"><span style="color:#222222\;"><span style="font-family:arial\,sans-serif\;"><span style="font-size:10.0pt\;">Presented by Detective Steve Desmond of Longmont Police Dept.</span></span></span></span>
LOCATION:Longmont Area Chamber of Commerce 528 Main St. Longmont\, CO 80501
UID:e.3083.7130
SEQUENCE:3
DTSTAMP:20260425T152928Z
URL:https://members.longmontchamber.org/events/details/cancelled-edu-identity-theft-fraud-04-08-2020-7130
END:VEVENT

END:VCALENDAR
