BEGIN:VCALENDAR
VERSION:2.0
PRODID:-//ChamberMaster//Event Calendar 2.0//EN
METHOD:PUBLISH
X-PUBLISHED-TTL:P3D
REFRESH-INTERVAL:P3D
CALSCALE:GREGORIAN
BEGIN:VEVENT
DTSTART:20200325T233000Z
DTEND:20200326T010000Z
X-MICROSOFT-CDO-ALLDAYEVENT:FALSE
SUMMARY:CANCELLED: EDU: Internet Security/Password Management
DESCRIPTION:Thank you for your interest in the Internet Security/Password Management Workshop. As a precautionary measure to prevent the spread of COVID-19 virus\, the class on March 25\, 2020\, will be cancelled.  Rescheduling for a future date will be taken into consideration. If you have questions please contact Rose@highplainsbank.com.\n\n\n\n\n\nIn an era where people are increasingly falling victim to online criminal activities\, it is important for every person to become aware of cybersecurity. In this presentation\, Floyd Kelley\, a 20+ year professional with Information Technology and Cybersecurity\, will outline what he calls the "Security Triad" consisting of the creation of stronger passwords by using Password Management tools\, utilizing 2-step verification with online accounts\, and spotting email phishing scams.\n\n \n\nPresented by Floyd Kelley\, IT Technician\, High Plains Bank
X-ALT-DESC;FMTTYPE=text/html:<span style="background:yellow\;">Thank you for your interest in the Internet Security/Password Management Workshop. As a precautionary measure to prevent the spread of COVID-19 virus\, the class on March 25\, 2020\, will be cancelled.&nbsp\; Rescheduling for a future date will be taken into consideration. If you have questions please contact <a href="mailto:Rose@highplainsbank.com">Rose@highplainsbank.com</a>.</span><br />\n<br />\n<br />\n<span style="color: rgb(34\, 34\, 34)\;"><span style="font-family: arial\, sans-serif\;">In an era where people are increasingly falling victim to online criminal activities\, it is important for every person to become aware of cybersecurity. In this presentation\, Floyd Kelley\, a 20+ year professional with Information Technology and Cybersecurity\, will outline what he calls the &quot\;Security Triad&quot\; consisting of the creation of stronger passwords by using Password Management tools\, utilizing 2-step verification with online accounts\, and spotting email phishing scams.</span></span><br />\n&nbsp\;<br />\n<span style="background-image: initial\; background-position: initial\; background-size: initial\; background-repeat: initial\; background-attachment: initial\; background-origin: initial\; background-clip: initial\;"><span style="color: rgb(34\, 34\, 34)\;"><span style="font-family: arial\, sans-serif\;">Presented by Floyd Kelley\, IT Technician\, High Plains Bank</span></span></span>
LOCATION:Longmont Area Chamber of Commerce 528 Main St. Longmont\, CO 80501
UID:e.3083.7133
SEQUENCE:3
DTSTAMP:20260425T170137Z
URL:https://members.longmontchamber.org/events/details/cancelled-edu-internet-security-password-management-7133
END:VEVENT

END:VCALENDAR
