BEGIN:VCALENDAR
VERSION:2.0
PRODID:-//ChamberMaster//Event Calendar 2.0//EN
METHOD:PUBLISH
X-PUBLISHED-TTL:P3D
REFRESH-INTERVAL:P3D
CALSCALE:GREGORIAN
BEGIN:VEVENT
DTSTART:20250812T150000Z
DTEND:20250812T160000Z
X-MICROSOFT-CDO-ALLDAYEVENT:FALSE
SUMMARY:CANCELLED! Member Masterclass - Simplified Business Tech Infrastructure with ViaTek
DESCRIPTION:Notice: This class has been cancelled. For any questions\, please contact Haley Hyde at hhyde@longmontchamber.org.\n\nIf you would like to connect with our keynote speaker or receive the content they had planned to share\, please don't hesitate to reach out   we'll be happy to connect you directly.\n\n\n\n\n\nSPECIAL SERIES SYMPOSIUM! \n\nMember Masterclass\n\nSimplified IT Infrastructure: A No-Nonsense Guide for Business Owners\n\n \n\n\nNextLight kicked off the conversation in July about the importance of fast\, reliable internet and smart business solutions. But what if your needs are more complex?\n\n\n\nLet's take the conversation deeper with an expert from ViaTek. Your tech needs deserve more than the basics join us as we explore how to build a smarter\, safer\, and more connected business.\n\n \n\n\nMeet the Speaker\n\nSid Payne\, Founder\, ViaTek\n\nWith over two decades of experience in cybersecurity and managed tech services\, Sid Payne built ViaTek around the philosophy of People-First IT. He's helped hundreds of Colorado businesses stay secure while keeping tech conversations human. Sid is known for his plain-language\, no-fluff approach making cybersecurity make sense for small business owners.\n\n\nAbout Member Masterclass\n\nThe Member Masterclass series is an exclusive opportunity for Longmont Area Chamber of Commerce members to gain insights and practical knowledge from fellow members who are experts in their fields. These monthly sessions foster connections\, expand professional know-how\, and provide actionable takeaways that members can apply to their businesses immediately.\n\nEach session features a 30-minute presentation followed by interactive Q&A and networking.\n\n\n\nThank You to Our Sponsor\n\nFNBO\n\n\n\nThe Member Masterclass series is made possible through the generous support of FNBO\, a long-time Chamber partner. FNBO is committed to fostering financial well-being and strengthening our business community through initiatives in workforce development\, financial literacy\, and economic growth.
X-ALT-DESC;FMTTYPE=text/html:<div class="OutlineElement Ltr SCXW174815174 BCX0" style="-webkit-user-drag: none\; -webkit-tap-highlight-color: transparent\; margin: 0px\; padding: 0px\; user-select: text\; clear: both\; cursor: text\; overflow: visible\; position: relative\; direction: ltr\; color: rgb(0\, 0\, 0)\; font-family: &quot\;Segoe UI&quot\;\, &quot\;Segoe UI Web&quot\;\, Arial\, Verdana\, sans-serif\; font-size: 12px\;">\n<div class="OutlineElement Ltr SCXW174815174 BCX0" style="-webkit-user-drag: none\; -webkit-tap-highlight-color: transparent\; margin: 0px\; padding: 0px\; user-select: text\; clear: both\; cursor: text\; overflow: visible\; position: relative\; direction: ltr\; color: rgb(0\, 0\, 0)\; font-family: &quot\;Segoe UI&quot\;\, &quot\;Segoe UI Web&quot\;\, Arial\, Verdana\, sans-serif\; font-size: 12px\;">\n<div class="OutlineElement Ltr SCXW26742188 BCX8" style="-webkit-user-drag: none\; -webkit-tap-highlight-color: transparent\; margin: 0px\; padding: 0px\; user-select: text\; clear: both\; cursor: text\; overflow: visible\; position: relative\; direction: ltr\; color: rgb(0\, 0\, 0)\; font-family: &quot\;Segoe UI&quot\;\, &quot\;Segoe UI Web&quot\;\, Arial\, Verdana\, sans-serif\; font-size: 12px\;">\n<p data-end="227" data-start="104"><span style="font-size:22px\;"><span style="color:#FF0000\;"><strong data-end="115" data-start="104">Notice:</strong> This class has been cancelled. For any questions\, please contact Haley Hyde at </span><strong data-end="224" data-start="195"><a class="cursor-pointer" data-end="222" data-start="197" rel="noopener"><span style="color:#FF0000\;">hhyde@longmontchamber.org</span></a></strong><span style="color:#FF0000\;">.</span></span></p>\n\n<p data-end="411" data-start="229"><span style="font-size:22px\;"><span style="color:#FF0000\;">If you would like to connect with our keynote speaker or receive the content they had planned to share\, please don&rsquo\;t hesitate to reach out &mdash\; we&rsquo\;ll be happy to connect you directly.</span></span><br />\n<br />\n<br />\n<span style="font-size:20px\;"><strong data-end="167" data-start="145">SPECIAL SERIES SYMPOSIUM!&nbsp\;</strong></span><br />\n<span style="font-size:20px\;"><strong data-end="167" data-start="145">Member Masterclass</strong></span></p>\n\n<p data-end="247" data-start="170"><span style="font-size:20px\;"><strong data-end="245" data-start="170">Simplified IT Infrastructure: A No-Nonsense Guide for Business Owners</strong></span><br />\n&nbsp\;</p>\n\n<hr data-end="454" data-start="451" style="color: rgb(0\, 0\, 0)\; font-family: &quot\;Segoe UI&quot\;\, &quot\;Segoe UI Web&quot\;\, Arial\, Verdana\, sans-serif\; font-size: 12px\;" />\n<p data-end="312" data-start="144"><span style="font-size:16px\;"><strong data-end="312" data-start="144">NextLight kicked off the conversation in July about the importance of fast\, reliable internet and smart business solutions. But what if your needs are more complex?</strong></span><br />\n<br />\n<strong data-end="774" data-start="735" style="font-size: 16px\;">Let&rsquo\;s take the conversation deeper with an expert from ViaTek.</strong><span style="font-size: 16px\;"> Your tech needs deserve more than the basics&mdash\;join us as we explore how to build a smarter\, safer\, and more connected business.</span></p>\n\n<h3 data-end="490" data-start="456">&nbsp\;</h3>\n\n<hr data-end="1751" data-start="1748" />\n<h3 data-end="1779" data-start="1753"><span style="font-size:20px\;"><strong data-end="1777" data-start="1757">Meet the Speaker</strong></span></h3>\n\n<p data-end="2171" data-start="1780"><span style="font-size:16px\;"><strong data-end="1810" data-start="1780">Sid Payne\, Founder\, ViaTek</strong><br data-end="1813" data-start="1810" />\nWith over two decades of experience in cybersecurity and managed tech services\, Sid Payne built ViaTek around the philosophy of <strong data-end="1960" data-start="1941">People-First IT</strong>. He&rsquo\;s helped hundreds of Colorado businesses stay secure while keeping tech conversations human. Sid is known for his plain-language\, no-fluff approach&mdash\;making cybersecurity make sense for small business owners.</span></p>\n\n<hr data-end="454" data-start="451" style="color: rgb(0\, 0\, 0)\; font-family: &quot\;Segoe UI&quot\;\, &quot\;Segoe UI Web&quot\;\, Arial\, Verdana\, sans-serif\; font-size: 12px\;" />\n<h3 data-end="490" data-start="456" style="color: rgb(0\, 0\, 0)\; font-family: &quot\;Segoe UI&quot\;\, &quot\;Segoe UI Web&quot\;\, Arial\, Verdana\, sans-serif\;"><span style="font-size: 20px\;"><strong data-end="488" data-start="460">About Member Masterclass</strong></span></h3>\n\n<p data-end="856" data-start="491" style="color: rgb(0\, 0\, 0)\; font-family: &quot\;Segoe UI&quot\;\, &quot\;Segoe UI Web&quot\;\, Arial\, Verdana\, sans-serif\; font-size: 12px\;"><span style="font-size: 16px\;">The&nbsp\;<strong data-end="517" data-start="495">Member Masterclass</strong>&nbsp\;series is an exclusive opportunity for Longmont Area Chamber of Commerce members to gain insights and practical knowledge from fellow members who are experts in their fields. These monthly sessions foster connections\, expand professional know-how\, and provide actionable takeaways that members can apply to their businesses immediately.</span></p>\n\n<p data-end="948" data-start="858" style="color: rgb(0\, 0\, 0)\; font-family: &quot\;Segoe UI&quot\;\, &quot\;Segoe UI Web&quot\;\, Arial\, Verdana\, sans-serif\; font-size: 12px\;"><span style="font-size: 16px\;">Each session features a 30-minute presentation followed by interactive Q&amp\;A and networking.</span></p>\n\n<h3 data-end="2212" data-start="2178"><br />\n<span style="font-size:20px\;"><strong data-end="2210" data-start="2182">Thank You to Our Sponsor</strong></span></h3>\n\n<p data-end="2521" data-start="2213"><span style="font-size:16px\;"><strong data-end="2221" data-start="2213">FNBO</strong><br />\n<br data-end="2224" data-start="2221" />\nThe Member Masterclass series is made possible through the generous support of <strong data-end="2311" data-start="2303">FNBO</strong>\, a long-time Chamber partner. FNBO is committed to fostering financial well-being and strengthening our business community through initiatives in workforce development\, financial literacy\, and economic growth.</span></p>\n</div>\n</div>\n</div>\n
LOCATION:Longmont Chamber Conference Room
UID:e.3083.13980
SEQUENCE:3
DTSTAMP:20260421T081728Z
URL:https://members.longmontchamber.org/events/details/cancelled-member-masterclass-simplified-business-tech-infrastructure-with-viatek-13980
END:VEVENT

END:VCALENDAR
