BEGIN:VCALENDAR
VERSION:2.0
PRODID:-//ChamberMaster//Event Calendar 2.0//EN
METHOD:PUBLISH
X-PUBLISHED-TTL:P3D
REFRESH-INTERVAL:P3D
CALSCALE:GREGORIAN
BEGIN:VEVENT
DTSTART:20191121T230000Z
DTEND:20191122T000000Z
X-MICROSOFT-CDO-ALLDAYEVENT:FALSE
SUMMARY:CANCELLED: Ribbon Cutting: IMMUNOe Allergy & Asthma Center
DESCRIPTION:Join us in welcoming IMMUNOe Allergy & Asthma Center to the Chamber with a Ribbon Cutting!\n\n\n\nYour #1 choice in allergy and asthma care. Clinical research program also available.\n\n\n\nRibbon Cuttings are a great way to celebrate our members\, network\, meet fellow Chamber Members and learn something about Longmont businesses.
X-ALT-DESC;FMTTYPE=text/html:<span style="font-size:14px\;"><span style="font-family:tahoma\;">Join us in welcoming IMMUNOe Allergy &amp\; Asthma Center to the Chamber with a Ribbon Cutting!<br />\n<br />\nYour #1 choice in allergy and asthma care. Clinical research program also available.<br />\n<br />\n<span style="color: rgb(0\, 0\, 0)\;">Ribbon Cuttings are a great way to celebrate our&nbsp\;members\, network\, meet fellow Chamber Members and learn something about Longmont businesses.</span></span></span><br />\n&nbsp\;
LOCATION:1551 Professional Lane\, Ste. 280 Longmont\, CO 80501
UID:e.3083.7354
SEQUENCE:3
DTSTAMP:20260425T233227Z
URL:https://members.longmontchamber.org/events/details/cancelled-ribbon-cutting-immunoe-allergy-asthma-center-7354
END:VEVENT

END:VCALENDAR
