BEGIN:VCALENDAR
VERSION:2.0
PRODID:-//ChamberMaster//Event Calendar 2.0//EN
METHOD:PUBLISH
X-PUBLISHED-TTL:P3D
REFRESH-INTERVAL:P3D
CALSCALE:GREGORIAN
BEGIN:VEVENT
DTSTART:20191210T230000Z
DTEND:20191211T000000Z
X-MICROSOFT-CDO-ALLDAYEVENT:FALSE
SUMMARY:CANCELLED: Ribbon Cutting: Waggle Family Magazine
DESCRIPTION:Join us at a Ribbon Cutting for Waggle Family Magazine!\n\n\n\nWaggle Family Magazine was created with families in mind and designed to be the go-to resource to inform\, serve and enrich local families and parents. Each issue has fun family activities\, expert parenting advice\, and a wide variety of resources from local nonprofits.\n\n\n\nCompetitive rates: Our rates make advertising to the St. Vrain Valley a great option for businesses of all sizes. Our competitive pricing allows even small businesses to promote their products and services to potential customers throughout St. Vrain Valley. Advertisers can also save money by committing to more frequent advertising packages.\n\n\n\nTargeted demographics: We are putting our magazines (and your advertisements) in the hands of one of the top consumer groups: PARENTS! Much of our editorial content is directed specifically at women who are 5:1 the key money spending decision makers in households.\n\n\n\nHome Delivery Distribution: Readers don't have to search all over town to find us (although they will find us if they want to). Waggle Family Magazine is delivered directly to the homes of your potential customers.\n\n\n\nCredibility: Research shows that magazines are perceived to be highly credible\, believable and trustworthy sources of information. Because Waggle Family Magazine serves as a resource to parents and families\, content (including ads within the magazine) will have high credibility to our targeted readers. Each issue also features articles specifically for families from our local nonprofits. It is important to Waggle that our nonprofits have a way to get their message out to the St. Vrain community.\n\n\n\nRibbon Cuttings are a great way to celebrate our members\, network\, meet fellow Chamber Members and learn something about Longmont businesses.
X-ALT-DESC;FMTTYPE=text/html:<span style="font-size:14px\;"><span style="font-family:tahoma\;">Join us at a Ribbon Cutting for Waggle Family Magazine!<br />\n<br />\n<span style="color: rgb(81\, 83\, 81)\;">Waggle Family Magazine was created with families in mind and designed to be the go-to resource to inform\, serve and enrich local families and parents. Each issue has fun family activities\, expert parenting advice\, and a wide variety of resources from local nonprofits.</span><br style="box-sizing: content-box\; bottom: auto\; clear: none\; color: rgb(81\, 83\, 81)\; content: normal\; direction: inherit\; display: inline\; empty-cells: show\; float: none\; font-variant-numeric: inherit\; font-variant-east-asian: inherit\; font-stretch: inherit\; font-size: 15px\; font-family: CenturyGothic\, Arial\, Helvetica\, sans-serif\; left: auto\; line-height: inherit\; margin: 0px\; max-height: none\; max-width: none\; min-height: initial\; min-width: initial\; opacity: 1\; outline-offset: 0px\; overflow: visible\; padding: 0px\; position: static\; resize: none\; right: auto\; table-layout: auto\; text-overflow: clip\; top: auto\; vertical-align: baseline\; visibility: inherit\; word-break: inherit\; overflow-wrap: inherit\; z-index: auto\; background-image: none\; background-position: initial\; background-size: initial\; background-repeat: initial\; background-attachment: initial\; background-origin: initial\; background-clip: initial\; border: none\; border-collapse: separate\; border-radius: 0px\; height: auto\; width: auto\;" />\n<br style="box-sizing: content-box\; bottom: auto\; clear: none\; color: rgb(81\, 83\, 81)\; content: normal\; direction: inherit\; display: inline\; empty-cells: show\; float: none\; font-variant-numeric: inherit\; font-variant-east-asian: inherit\; font-stretch: inherit\; font-size: 15px\; font-family: CenturyGothic\, Arial\, Helvetica\, sans-serif\; left: auto\; line-height: inherit\; margin: 0px\; max-height: none\; max-width: none\; min-height: initial\; min-width: initial\; opacity: 1\; outline-offset: 0px\; overflow: visible\; padding: 0px\; position: static\; resize: none\; right: auto\; table-layout: auto\; text-overflow: clip\; top: auto\; vertical-align: baseline\; visibility: inherit\; word-break: inherit\; overflow-wrap: inherit\; z-index: auto\; background-image: none\; background-position: initial\; background-size: initial\; background-repeat: initial\; background-attachment: initial\; background-origin: initial\; background-clip: initial\; border: none\; border-collapse: separate\; border-radius: 0px\; height: auto\; width: auto\;" />\n<span style="color: rgb(81\, 83\, 81)\;">Competitive rates: Our rates make advertising to the St. Vrain Valley a great option for businesses of all sizes. Our competitive pricing allows even small businesses to promote their products and services to potential customers throughout St. Vrain Valley. Advertisers can also save money by committing to more frequent advertising packages.</span><br style="box-sizing: content-box\; bottom: auto\; clear: none\; color: rgb(81\, 83\, 81)\; content: normal\; direction: inherit\; display: inline\; empty-cells: show\; float: none\; font-variant-numeric: inherit\; font-variant-east-asian: inherit\; font-stretch: inherit\; font-size: 15px\; font-family: CenturyGothic\, Arial\, Helvetica\, sans-serif\; left: auto\; line-height: inherit\; margin: 0px\; max-height: none\; max-width: none\; min-height: initial\; min-width: initial\; opacity: 1\; outline-offset: 0px\; overflow: visible\; padding: 0px\; position: static\; resize: none\; right: auto\; table-layout: auto\; text-overflow: clip\; top: auto\; vertical-align: baseline\; visibility: inherit\; word-break: inherit\; overflow-wrap: inherit\; z-index: auto\; background-image: none\; background-position: initial\; background-size: initial\; background-repeat: initial\; background-attachment: initial\; background-origin: initial\; background-clip: initial\; border: none\; border-collapse: separate\; border-radius: 0px\; height: auto\; width: auto\;" />\n<br style="box-sizing: content-box\; bottom: auto\; clear: none\; color: rgb(81\, 83\, 81)\; content: normal\; direction: inherit\; display: inline\; empty-cells: show\; float: none\; font-variant-numeric: inherit\; font-variant-east-asian: inherit\; font-stretch: inherit\; font-size: 15px\; font-family: CenturyGothic\, Arial\, Helvetica\, sans-serif\; left: auto\; line-height: inherit\; margin: 0px\; max-height: none\; max-width: none\; min-height: initial\; min-width: initial\; opacity: 1\; outline-offset: 0px\; overflow: visible\; padding: 0px\; position: static\; resize: none\; right: auto\; table-layout: auto\; text-overflow: clip\; top: auto\; vertical-align: baseline\; visibility: inherit\; word-break: inherit\; overflow-wrap: inherit\; z-index: auto\; background-image: none\; background-position: initial\; background-size: initial\; background-repeat: initial\; background-attachment: initial\; background-origin: initial\; background-clip: initial\; border: none\; border-collapse: separate\; border-radius: 0px\; height: auto\; width: auto\;" />\n<span style="color: rgb(81\, 83\, 81)\;">Targeted demographics: We are putting our magazines (and your advertisements) in the hands of one of the top consumer groups: PARENTS! Much of our editorial content is directed specifically at women who are 5:1 the key money spending decision makers in households.</span><br style="box-sizing: content-box\; bottom: auto\; clear: none\; color: rgb(81\, 83\, 81)\; content: normal\; direction: inherit\; display: inline\; empty-cells: show\; float: none\; font-variant-numeric: inherit\; font-variant-east-asian: inherit\; font-stretch: inherit\; font-size: 15px\; font-family: CenturyGothic\, Arial\, Helvetica\, sans-serif\; left: auto\; line-height: inherit\; margin: 0px\; max-height: none\; max-width: none\; min-height: initial\; min-width: initial\; opacity: 1\; outline-offset: 0px\; overflow: visible\; padding: 0px\; position: static\; resize: none\; right: auto\; table-layout: auto\; text-overflow: clip\; top: auto\; vertical-align: baseline\; visibility: inherit\; word-break: inherit\; overflow-wrap: inherit\; z-index: auto\; background-image: none\; background-position: initial\; background-size: initial\; background-repeat: initial\; background-attachment: initial\; background-origin: initial\; background-clip: initial\; border: none\; border-collapse: separate\; border-radius: 0px\; height: auto\; width: auto\;" />\n<br style="box-sizing: content-box\; bottom: auto\; clear: none\; color: rgb(81\, 83\, 81)\; content: normal\; direction: inherit\; display: inline\; empty-cells: show\; float: none\; font-variant-numeric: inherit\; font-variant-east-asian: inherit\; font-stretch: inherit\; font-size: 15px\; font-family: CenturyGothic\, Arial\, Helvetica\, sans-serif\; left: auto\; line-height: inherit\; margin: 0px\; max-height: none\; max-width: none\; min-height: initial\; min-width: initial\; opacity: 1\; outline-offset: 0px\; overflow: visible\; padding: 0px\; position: static\; resize: none\; right: auto\; table-layout: auto\; text-overflow: clip\; top: auto\; vertical-align: baseline\; visibility: inherit\; word-break: inherit\; overflow-wrap: inherit\; z-index: auto\; background-image: none\; background-position: initial\; background-size: initial\; background-repeat: initial\; background-attachment: initial\; background-origin: initial\; background-clip: initial\; border: none\; border-collapse: separate\; border-radius: 0px\; height: auto\; width: auto\;" />\n<span style="color: rgb(81\, 83\, 81)\;">Home Delivery Distribution: Readers don&rsquo\;t have to search all over town to find us (although they will find us if they want to). Waggle Family Magazine is delivered directly to the homes of your potential customers.</span><br style="box-sizing: content-box\; bottom: auto\; clear: none\; color: rgb(81\, 83\, 81)\; content: normal\; direction: inherit\; display: inline\; empty-cells: show\; float: none\; font-variant-numeric: inherit\; font-variant-east-asian: inherit\; font-stretch: inherit\; font-size: 15px\; font-family: CenturyGothic\, Arial\, Helvetica\, sans-serif\; left: auto\; line-height: inherit\; margin: 0px\; max-height: none\; max-width: none\; min-height: initial\; min-width: initial\; opacity: 1\; outline-offset: 0px\; overflow: visible\; padding: 0px\; position: static\; resize: none\; right: auto\; table-layout: auto\; text-overflow: clip\; top: auto\; vertical-align: baseline\; visibility: inherit\; word-break: inherit\; overflow-wrap: inherit\; z-index: auto\; background-image: none\; background-position: initial\; background-size: initial\; background-repeat: initial\; background-attachment: initial\; background-origin: initial\; background-clip: initial\; border: none\; border-collapse: separate\; border-radius: 0px\; height: auto\; width: auto\;" />\n<br style="box-sizing: content-box\; bottom: auto\; clear: none\; color: rgb(81\, 83\, 81)\; content: normal\; direction: inherit\; display: inline\; empty-cells: show\; float: none\; font-variant-numeric: inherit\; font-variant-east-asian: inherit\; font-stretch: inherit\; font-size: 15px\; font-family: CenturyGothic\, Arial\, Helvetica\, sans-serif\; left: auto\; line-height: inherit\; margin: 0px\; max-height: none\; max-width: none\; min-height: initial\; min-width: initial\; opacity: 1\; outline-offset: 0px\; overflow: visible\; padding: 0px\; position: static\; resize: none\; right: auto\; table-layout: auto\; text-overflow: clip\; top: auto\; vertical-align: baseline\; visibility: inherit\; word-break: inherit\; overflow-wrap: inherit\; z-index: auto\; background-image: none\; background-position: initial\; background-size: initial\; background-repeat: initial\; background-attachment: initial\; background-origin: initial\; background-clip: initial\; border: none\; border-collapse: separate\; border-radius: 0px\; height: auto\; width: auto\;" />\n<span style="color: rgb(81\, 83\, 81)\;">Credibility: Research shows that magazines are perceived to be highly credible\, believable and trustworthy sources of information. Because Waggle Family Magazine serves as a resource to parents and families\, content (including ads within the magazine) will have high credibility to our targeted readers. Each issue also features articles specifically for families from our local nonprofits. It is important to Waggle that our nonprofits have a way to get their message out to the St. Vrain community.</span><br />\n<br />\n<span style="color: rgb(0\, 0\, 0)\;">Ribbon Cuttings are a great way to celebrate our&nbsp\;members\, network\, meet fellow Chamber Members and learn something about Longmont businesses.</span></span></span>
LOCATION:Family Village 1303 S Bross Lane Longmont\, CO 80501
UID:e.3083.7356
SEQUENCE:3
DTSTAMP:20260425T214228Z
URL:https://members.longmontchamber.org/events/details/cancelled-ribbon-cutting-waggle-family-magazine-7356
END:VEVENT

END:VCALENDAR
