BEGIN:VCALENDAR
VERSION:2.0
PRODID:-//ChamberMaster//Event Calendar 2.0//EN
METHOD:PUBLISH
X-PUBLISHED-TTL:P3D
REFRESH-INTERVAL:P3D
CALSCALE:GREGORIAN
BEGIN:VEVENT
DTSTART:20240727T180000Z
DTEND:20240727T230000Z
X-MICROSOFT-CDO-ALLDAYEVENT:FALSE
SUMMARY:Classic Car and Bike Show @ the Elks Lodge
DESCRIPTION:Join us on Saturday\, July 27th from 12pm - 5pm at the Elks Lodge 1055 here in Longmont for the Classic Car and Bike Show!\n\n\n\nThere will be food trucks\, a beer garden\, silent auction\, raffles\, trophies\, and of course some sweet\, sweet rides! Sponsored by our friends at Copper Sky Distillery\, Oskar Blues Brewery\, and Wild Cider.\n\n\n\nPre-register using the QR code on the flyer!
X-ALT-DESC;FMTTYPE=text/html:Join us on Saturday\, July 27th from 12pm - 5pm at the Elks Lodge 1055 here in Longmont for the Classic Car and Bike Show!<br />\n<br />\nThere will be food trucks\, a beer garden\, silent auction\, raffles\, trophies\, and of course some sweet\, sweet rides! Sponsored by our friends at Copper Sky Distillery\, Oskar Blues Brewery\, and Wild Cider.<br />\n<br />\nPre-register using the QR code on the flyer!
LOCATION:Longmont Elk's Lodge #1055 306 Coffman St. Longmont\, CO. 80501 (303)-776-1055
UID:e.3083.10150
SEQUENCE:3
DTSTAMP:20260422T044528Z
URL:https://members.longmontchamber.org/events/details/car-show-at-the-elks-lodge-10150
END:VEVENT

END:VCALENDAR
