BEGIN:VCALENDAR
VERSION:2.0
PRODID:-//ChamberMaster//Event Calendar 2.0//EN
METHOD:PUBLISH
X-PUBLISHED-TTL:P3D
REFRESH-INTERVAL:P3D
CALSCALE:GREGORIAN
BEGIN:VEVENT
DTSTART:20241018T210000Z
DTEND:20241019T040000Z
X-MICROSOFT-CDO-ALLDAYEVENT:FALSE
SUMMARY:Celebrate Dry Land Distillers 6th Year Birthday Party!
DESCRIPTION:"We Almost Forgot Our Birthday" Birthday Party!!\n									\n									\n								\n							\n						\n						\n					\n				\n			\n			\n		\n		\n			\n			\n				\n					\n						\n						\n							\n								\n									\n									\n									 \n									We got so busy this summer that we missed celebrating our 6th birthday! Never fear\, we're still throwing ourselves a birthday bash on Friday\, October 18th (3 - close). We'll have birthday cake (and birthday pie\, Kelly's favorite)\, homemade ice cream\, live music from Longmont's Tribonnaci Trio\, and our annual Spirit Garage Sale!\n\n									\n\n									The Garage Sale will have lots of great bottles from our private collections\, experimental batches\, and found cases. Here's a partial list:\n\n									 \n									\n										3 Bottles High Proof Silver Rum\n										6 bottles Barrel Strength Antero Wheat Whiskey\n										1 Case Navy Strength Gin\n										1 Case 151 Proof Gold Rum\n										10 Bottles Eau de Vie\n									\n\n									\n\n									Many of the Garage Sale bottles are the last of their kind - and they will sell at a discount!\n\n									\n\n									Because space is limited\, we encourage you to RSVP here - that will help us make enough cake and ice cream!
X-ALT-DESC;FMTTYPE=text/html:<table border="0" cellpadding="0" cellspacing="0" style="background-color:rgb(255\, 255\, 255)\; border-collapse:collapse\; color:rgb(0\, 0\, 0)\; font-family:arial\; font-size:14px\; min-width:100%\; width:650px">\n	<tbody>\n		<tr>\n			<td>\n			<table border="0" cellpadding="0" cellspacing="0" style="border-collapse:initial !important\; font-size:14px\; min-width:100%\; width:100%">\n				<tbody>\n					<tr>\n						<td>\n						<table border="0" cellpadding="0" cellspacing="0" style="border-collapse:collapse\; font-size:14px\; min-width:100%\; width:100%">\n							<tbody>\n								<tr>\n									<td>\n									<div>\n									<div style="text-align:center"><strong>&quot\;We Almost Forgot Our Birthday&quot\; Birthday Party!!</strong></div>\n									</div>\n									</td>\n								</tr>\n							</tbody>\n						</table>\n						</td>\n					</tr>\n				</tbody>\n			</table>\n			</td>\n		</tr>\n		<tr>\n			<td>\n			<table border="0" cellpadding="0" cellspacing="0" style="border-collapse:initial !important\; font-size:14px\; min-width:100%\; width:100%">\n				<tbody>\n					<tr>\n						<td>\n						<table border="0" cellpadding="0" cellspacing="0" style="border-collapse:collapse\; font-size:14px\; min-width:100%\; width:100%">\n							<tbody>\n								<tr>\n									<td>\n									<div>\n									<div>&nbsp\;</div>\n									We got so busy this summer that we missed celebrating our 6th birthday! Never fear\, we&#39\;re still throwing ourselves a birthday bash on&nbsp\;<strong>Friday\, October 18th (3 - close)</strong>. We&#39\;ll have birthday cake (and birthday pie\, Kelly&#39\;s favorite)\, homemade ice cream\, live music from Longmont&#39\;s&nbsp\;<a href="https://drylanddistillers.acemlna.com/lt.php?x=3DZy~GDEV6TN5XJ6-N~HVuVs~aApvATuwugzZHTHKaSi7sB9_Uy.zeNs242jj_A~jvYxXHbL" style="color: rgb(4\, 95\, 180)\; margin: 0px\; outline: none\; padding: 0px\;" target="_blank">Tribonnaci Trio</a>\, and our annual Spirit Garage Sale!<br />\n									<br />\n									The Garage Sale will have lots of great bottles from our private collections\, experimental batches\, and found cases. Here&#39\;s a partial list:<br />\n									&nbsp\;\n									<ul>\n										<li>3 Bottles High Proof Silver Rum</li>\n										<li>6 bottles Barrel Strength Antero Wheat Whiskey</li>\n										<li>1 Case Navy Strength Gin</li>\n										<li>1 Case 151 Proof Gold Rum</li>\n										<li>10 Bottles Eau de Vie</li>\n									</ul>\n\n									<div><br />\n									Many of the Garage Sale bottles are the last of their kind - and they will sell at a discount!<br />\n									<br />\n									Because space is limited\, we encourage you to&nbsp\;<a href="https://drylanddistillers.acemlna.com/lt.php?x=3DZy~GDEV6TN5XJ6-N~HVuVs~aApvATuwugzZHTHKaSi7sB9_Uy.zeNs242jj_A~jvYxXHjG" style="color: rgb(4\, 95\, 180)\; margin: 0px\; outline: none\; padding: 0px\;" target="_blank"><strong>RSVP here</strong>&nbsp\;</a>- that will help us make enough cake and ice cream!</div>\n									</div>\n									</td>\n								</tr>\n							</tbody>\n						</table>\n						</td>\n					</tr>\n				</tbody>\n			</table>\n			</td>\n		</tr>\n	</tbody>\n</table>\n
LOCATION:
UID:e.3083.10241
SEQUENCE:3
DTSTAMP:20260421T235853Z
URL:https://members.longmontchamber.org/events/details/celebrate-dry-land-distillers-6th-year-birthday-party-10241
END:VEVENT

END:VCALENDAR
