BEGIN:VCALENDAR
VERSION:2.0
PRODID:-//ChamberMaster//Event Calendar 2.0//EN
METHOD:PUBLISH
X-PUBLISHED-TTL:P3D
REFRESH-INTERVAL:P3D
CALSCALE:GREGORIAN
BEGIN:VEVENT
DTSTART:20250927T000000Z
DTEND:20250927T023000Z
X-MICROSOFT-CDO-ALLDAYEVENT:FALSE
SUMMARY:Celebrate HOPE
DESCRIPTION:HOPE (Homeless Outreach Providing Encouragement)\, is hosting its annual ticketed fundraiser gala\, Celebrate HOPE\, on Friday\, September 26\, 2025\, at Lone Hawk Farm.  HOPE is a Longmont-based nonprofit organization that has been serving individuals experiencing homelessness since 2007.\n\nThe evening will feature dinner\, drinks\, live music\, inspiring speakers\, a silent auction\, and a paddle raise where donors can have fun lighthearted competition all in celebration of the Longmont community and the platform our donors create for change.\n\nCelebrate HOPE is more than a "fancy gala"\, it's a chance for our community to come together and make a difference.  As homelessness continues to rise\, our programs provide critical support and a path forward for those who need it most.\n\nCelebrate HOPE is focused on bringing together community members\, businesses\, and supporters to shine a light on the local homelessness crisis\, invest in real\, long-lasting solutions\, and of course to have fun!\n\n\n\nProceeds from the gala directly support HOPE's essential programs and general operations
X-ALT-DESC;FMTTYPE=text/html:<p><br />\n<span style="font-size:14px"><span style="background-color:transparent\; color:rgb(0\, 0\, 0)\; font-family:arial\,sans-serif"><span style="font-size:18px\;">HOPE (Homeless Outreach Providing Encouragement)\, is hosting its annual ticketed fundraiser gala\, </span></span><span style="font-size:18px\;"><strong>Celebrate HOPE</strong><span style="background-color:transparent\; color:rgb(0\, 0\, 0)\; font-family:arial\,sans-serif">\, on </span><strong>Friday\, September 26\, 2025</strong><span style="background-color:transparent\; color:rgb(0\, 0\, 0)\; font-family:arial\,sans-serif">\, at </span><strong>Lone Hawk Farm</strong><span style="background-color:transparent\; color:rgb(0\, 0\, 0)\; font-family:arial\,sans-serif">.&nbsp\; HOPE is a Longmont-based nonprofit organization that has been serving individuals experiencing homelessness since 2007.</span></span></span></p>\n\n<p><span style="font-size:18px\;"><span style="background-color:transparent\; color:rgb(0\, 0\, 0)\; font-family:arial\,sans-serif">The evening will feature dinner\, drinks\, live music\, inspiring speakers\, a silent auction\, and a paddle raise where donors can have fun lighthearted competition&mdash\;all in celebration of the Longmont community and the platform our donors create for change.</span></span></p>\n\n<p><span style="font-size:18px\;"><strong>Celebrate HOPE is more than a&nbsp\;&ldquo\;fancy gala&rdquo\;</strong><span style="background-color:transparent\; color:rgb(0\, 0\, 0)\; font-family:arial\,sans-serif">\, it&rsquo\;s a chance for our community to come together and make a difference.&nbsp\; As homelessness continues to rise\, our programs provide critical support and a path forward for those who need it most.</span></span></p>\n\n<p><span style="font-size:18px\;"><span style="background-color:transparent\; color:rgb(0\, 0\, 0)\; font-family:arial\,sans-serif">Celebrate HOPE is focused on bringing together community members\, businesses\, and supporters to shine a light on the local homelessness crisis\, invest in real\, long-lasting solutions\, and of course to have fun!</span></span><br />\n<br />\n<span style="font-size:18px\;"><strong>Proceeds from the gala directly support HOPE&rsquo\;s essential programs and general operations</strong></span></p>\n\n<div>&nbsp\;</div>\n
LOCATION:Lone Hawk Farms
UID:e.3083.13568
SEQUENCE:3
DTSTAMP:20260421T063749Z
URL:https://members.longmontchamber.org/events/details/celebrate-hope-13568
END:VEVENT

END:VCALENDAR
