BEGIN:VCALENDAR
VERSION:2.0
PRODID:-//ChamberMaster//Event Calendar 2.0//EN
METHOD:PUBLISH
X-PUBLISHED-TTL:P3D
REFRESH-INTERVAL:P3D
CALSCALE:GREGORIAN
BEGIN:VEVENT
DTSTART:20251005T000000Z
DTEND:20251005T030000Z
X-MICROSOFT-CDO-ALLDAYEVENT:FALSE
SUMMARY:Celebrating Jim Fricker with Peak2Peak @ FestGarten
DESCRIPTION:Doors 5PM | Show 6PM\n\nPeak2Peak celebrates Jim Fricker's last performance with a show you won't want to miss! All ages show under Wibby's open-air pavilion\, FestGarten.\n\nPeak2Peak was born from a collective\, forged in the intense heat of practice\, steeped in history\, and now presents the best of the Grateful Dead tradition and the cohesive improvisational jams that you expect if you're going to boogie down for 3 solid hours.
X-ALT-DESC;FMTTYPE=text/html:<p style="text-align: center\;"><br />\nDoors 5PM | Show 6PM</p>\n\n<p style="text-align: center\;">Peak2Peak celebrates Jim Fricker&#39\;s last performance with a show you won&#39\;t want to miss! All ages show under Wibby&#39\;s open-air pavilion\, FestGarten.</p>\n\n<p style="text-align: center\;">Peak2Peak was born from a collective\, forged in the intense heat of practice\, steeped in history\, and now presents the best of the Grateful Dead tradition and the cohesive improvisational jams that you expect if you&#39\;re going to boogie down for 3 solid hours.</p>\n
LOCATION:Wibby Brewing
UID:e.3083.14457
SEQUENCE:3
DTSTAMP:20260421T052618Z
URL:https://members.longmontchamber.org/events/details/celebrating-jim-fricker-with-peak2peak-festgarten-14457
END:VEVENT

END:VCALENDAR
