BEGIN:VCALENDAR
VERSION:2.0
PRODID:-//ChamberMaster//Event Calendar 2.0//EN
METHOD:PUBLISH
X-PUBLISHED-TTL:P3D
REFRESH-INTERVAL:P3D
CALSCALE:GREGORIAN
BEGIN:VEVENT
DTSTART:20250415T000000Z
DTEND:20250415T020000Z
X-MICROSOFT-CDO-ALLDAYEVENT:FALSE
SUMMARY:Centennial State Ballet Fundraiser
DESCRIPTION:Join Us for an Exclusive Evening of Ballet Elegance!\n\n\n\nCost: $50 per person\; includes first glass of wine & platter of nibbles. TICKET PRICE TO BENEFIT CSB\n\n\n\nAn Introduction to CSB (Centennial School of Ballet)\n\n\n\nExperience the world of ballet up close! Learn about CSB's history\, vision\, and dedication to training the next generation of talented dancers.\n\n\n\nWhat is a Pointe Shoe?\n\nWatch a live demonstration where we explore the magic and intricacy of pointe shoes. See firsthand how these iconic footwear pieces help dancers defy gravity.\n\n\n\nThe Fascinating History of Ballet\n\nTake a journey through time as we share the rich history of ballet. From its origins to today's modern forms\, discover how ballet has evolved.\n\n\n\nStations with Costumes on Bust Forms\n\nGet a close-up view of ballet's stunning costumes! Explore beautifully crafted outfits and learn about their role in a dancer's performance.\n\n\n\nCost & Time to Put it All Together\n\nWant to know what it takes to make a ballet production come to life? We'll share insights on the time and costs involved in creating these awe-inspiring performances.\n\n\n\nVariations Presentation\n\nSee how ballet's diverse styles and variations come to life in live demonstrations. Watch as dancers show off different techniques and styles from across the ballet world.\n\n\n\nQ&A Session & Mingle\n\nHave questions? We've got answers! Our team will be on hand to chat\, share insights\, and discuss everything ballet-related with you.\n\n\n\nDon't miss this unforgettable event celebrating the beauty and art of ballet. See you there!
X-ALT-DESC;FMTTYPE=text/html:<span style="font-size:20px\;"><span style="color: rgb(43\, 43\, 43)\; font-family: oracle\, helvetica\, sans-serif\;">Join Us for an Exclusive Evening of Ballet Elegance!</span><br />\n<br />\n<span style="color: rgb(43\, 43\, 43)\; font-family: oracle\, helvetica\, sans-serif\;">Cost: $50 per person\; includes first glass of wine &amp\; platter of nibbles. TICKET PRICE TO BENEFIT CSB</span><br />\n<br />\n<span style="color: rgb(43\, 43\, 43)\; font-family: oracle\, helvetica\, sans-serif\;">An Introduction to CSB (Centennial School of Ballet)</span><br />\n<br />\n<span style="color: rgb(43\, 43\, 43)\; font-family: oracle\, helvetica\, sans-serif\;">Experience the world of ballet up close! Learn about CSB&rsquo\;s history\, vision\, and dedication to training the next generation of talented dancers.</span><br />\n<br />\n<span style="color: rgb(43\, 43\, 43)\; font-family: oracle\, helvetica\, sans-serif\;">What is a Pointe Shoe?</span><br />\n<span style="color: rgb(43\, 43\, 43)\; font-family: oracle\, helvetica\, sans-serif\;">Watch a live demonstration where we explore the magic and intricacy of pointe shoes. See firsthand how these iconic footwear pieces help dancers defy gravity.</span><br />\n<br />\n<span style="color: rgb(43\, 43\, 43)\; font-family: oracle\, helvetica\, sans-serif\;">The Fascinating History of Ballet</span><br />\n<span style="color: rgb(43\, 43\, 43)\; font-family: oracle\, helvetica\, sans-serif\;">Take a journey through time as we share the rich history of ballet. From its origins to today&rsquo\;s modern forms\, discover how ballet has evolved.</span><br />\n<br />\n<span style="color: rgb(43\, 43\, 43)\; font-family: oracle\, helvetica\, sans-serif\;">Stations with Costumes on Bust Forms</span><br />\n<span style="color: rgb(43\, 43\, 43)\; font-family: oracle\, helvetica\, sans-serif\;">Get a close-up view of ballet&rsquo\;s stunning costumes! Explore beautifully crafted outfits and learn about their role in a dancer&#39\;s performance.</span><br />\n<br />\n<span style="color: rgb(43\, 43\, 43)\; font-family: oracle\, helvetica\, sans-serif\;">Cost &amp\; Time to Put it All Together</span><br />\n<span style="color: rgb(43\, 43\, 43)\; font-family: oracle\, helvetica\, sans-serif\;">Want to know what it takes to make a ballet production come to life? We&rsquo\;ll share insights on the time and costs involved in creating these awe-inspiring performances.</span><br />\n<br />\n<span style="color: rgb(43\, 43\, 43)\; font-family: oracle\, helvetica\, sans-serif\;">Variations Presentation</span><br />\n<span style="color: rgb(43\, 43\, 43)\; font-family: oracle\, helvetica\, sans-serif\;">See how ballet&rsquo\;s diverse styles and variations come to life in live demonstrations. Watch as dancers show off different techniques and styles from across the ballet world.</span><br />\n<br />\n<span style="color: rgb(43\, 43\, 43)\; font-family: oracle\, helvetica\, sans-serif\;">Q&amp\;A Session &amp\; Mingle</span><br />\n<span style="color: rgb(43\, 43\, 43)\; font-family: oracle\, helvetica\, sans-serif\;">Have questions? We&rsquo\;ve got answers! Our team will be on hand to chat\, share insights\, and discuss everything ballet-related with you.</span><br />\n<br />\n<span style="color: rgb(43\, 43\, 43)\; font-family: oracle\, helvetica\, sans-serif\;">Don&rsquo\;t miss this unforgettable event celebrating the beauty and art of ballet. See you there!&nbsp\;</span></span>
LOCATION:Kuper Wine Bar
UID:e.3083.13285
SEQUENCE:3
DTSTAMP:20260421T142558Z
URL:https://members.longmontchamber.org/events/details/centennial-state-ballet-fundraiser-13285
END:VEVENT

END:VCALENDAR
