BEGIN:VCALENDAR
VERSION:2.0
PRODID:-//ChamberMaster//Event Calendar 2.0//EN
METHOD:PUBLISH
X-PUBLISHED-TTL:P3D
REFRESH-INTERVAL:P3D
CALSCALE:GREGORIAN
BEGIN:VEVENT
DTSTART:20211128T200000Z
DTEND:20211128T213000Z
X-MICROSOFT-CDO-ALLDAYEVENT:FALSE
SUMMARY:Centennial State Ballet's Sugar Plum Tea Party
DESCRIPTION:The Sugar Plum Fairy warmly invites you to CSB's 9th Annual Sugar Plum Tea Party hosted by Dickens 300 Prime. Tickets include a warm tea\; a catered\, plated afternoon tea service with finger sandwiches\, a scone\, and sweets\; musical accompaniment with a mini-Nutcracker performance\; and photo opportunities with characters from the show. Check our website for up to date Covid policies as we safely Celebrate\, Commemorate\, and Innovate into our 10th Anniversary! November 27th at 4PM and November 28th at 1PM at Dickens Opera House\; a sweet treat for all ages! To get tickets or find out more: b.link/2021SugarPlumTea or email boxoffice@centennialstateballet.org
X-ALT-DESC;FMTTYPE=text/html:<p><span style="background-color:transparent\; color:rgb(0\, 0\, 0)\; font-family:arial\; font-size:11pt">The Sugar Plum Fairy warmly invites you to CSB&rsquo\;s 9th Annual Sugar Plum Tea Party hosted by Dickens 300 Prime. Tickets include a warm tea\; a catered\, plated afternoon tea service with finger sandwiches\, a scone\, and sweets\; musical accompaniment with a mini-Nutcracker performance\; and photo opportunities with characters from the show. Check our website for up to date Covid policies as we safely Celebrate\, Commemorate\, and Innovate into our 10th Anniversary! November 27th at 4PM and November 28th at 1PM at Dickens Opera House\; a sweet treat for all ages! To get tickets or find out more: <a href="http://b.link/2021SugarPlumTea">b.link/2021SugarPlumTea</a> or email boxoffice@centennialstateballet.org</span></p>\n\n<div>&nbsp\;</div>\n
LOCATION:Dickens Opera House 300 Main St Longmont\, CO 80021
UID:e.3083.8625
SEQUENCE:3
DTSTAMP:20260424T074959Z
URL:https://members.longmontchamber.org/events/details/centennial-state-ballet-s-sugar-plum-tea-party-11-28-2021-8625
END:VEVENT

END:VCALENDAR
