BEGIN:VCALENDAR
VERSION:2.0
PRODID:-//ChamberMaster//Event Calendar 2.0//EN
METHOD:PUBLISH
X-PUBLISHED-TTL:P3D
REFRESH-INTERVAL:P3D
CALSCALE:GREGORIAN
BEGIN:VEVENT
DTSTART:20211219T200000Z
DTEND:20211219T223000Z
X-MICROSOFT-CDO-ALLDAYEVENT:FALSE
SUMMARY:Centennial State Ballet's The Nutcracker
DESCRIPTION:Make the season bright as family\, fantasy\, and magic unite in this timeless ballet when Clara's dream comes to life! Dancing dolls\, glittering snowflakes\, delicious candies\, and much more sweeten this story of battles\, blizzards\, and a land of sweets. It's the perfect holiday entertainment for children and adults to share live in the theater or in the comfort of your home with a livestream ticket! Special thanks to pianist Alaina DeBellevue for live accompaniment. Check our website for up to date Covid policies as we safely Celebrate\, Commemorate\, and Innovate into our 10th Anniversary! December 18th at 2PM and December 19th at 1PM at Niwot High School\; for all ages! For more info\, visit b.link/TheNutcracker2021 or email boxoffice@centennialstateballet.org
X-ALT-DESC;FMTTYPE=text/html:<p><span style="background-color:transparent\; color:rgb(0\, 0\, 0)\; font-family:arial\; font-size:11pt">Make the season bright as family\, fantasy\, and magic unite in this timeless ballet when Clara&rsquo\;s dream comes to life! Dancing dolls\, glittering snowflakes\, delicious candies\, and much more sweeten this story of battles\, blizzards\, and a land of sweets. It&rsquo\;s the perfect holiday entertainment for children and adults to share live in the theater or in the comfort of your home with a livestream ticket! Special thanks to pianist Alaina DeBellevue for live accompaniment. Check our website for up to date Covid policies as we safely Celebrate\, Commemorate\, and Innovate into our 10th Anniversary! December 18th at 2PM and December 19th at 1PM at Niwot High School\; for all ages! For more info\, visit <a href="http://b.link/TheNutcracker2021">b.link/TheNutcracker2021</a> or email boxoffice@centennialstateballet.org</span></p>\n\n<div>&nbsp\;</div>\n\n<div>&nbsp\;</div>\n
LOCATION:Niwot High School 8989 Niwot Rd Niwot\, CO 80503
UID:e.3083.8627
SEQUENCE:3
DTSTAMP:20260424T062520Z
URL:https://members.longmontchamber.org/events/details/centennial-state-ballet-s-the-nutcracker-12-19-2021-8627
END:VEVENT

END:VCALENDAR
