BEGIN:VCALENDAR
VERSION:2.0
PRODID:-//ChamberMaster//Event Calendar 2.0//EN
METHOD:PUBLISH
X-PUBLISHED-TTL:P3D
REFRESH-INTERVAL:P3D
CALSCALE:GREGORIAN
BEGIN:VEVENT
DTSTART:20190918T220000Z
DTEND:20190918T233000Z
X-MICROSOFT-CDO-ALLDAYEVENT:FALSE
SUMMARY:Chamber Student Network
DESCRIPTION:Students - Be part of an exciting program with your local Chamber of Commerce. Chamber Student Network is comprised of high school and college students engaged in and shaping a program geared toward connecting students to the business community. Students have the opportunity to let the Longmont Chamber know what?s relevant and vital for them to learn\, grow and connect.\n\n Chamber Members - Education and business collide in Chamber Student Network\, a Longmont Chamber program run by local students. Students get the opportunity to connect to businesses and learn the necessary skills to be successful in business.
X-ALT-DESC;FMTTYPE=text/html:<span style="font-size:14px\;"><span style="color:#A9A9A9\;"><span style="font-family: &quot\;Century Gothic Regular&quot\;\, Helvetica\, Arial\, Lucida\, sans-serif\;">Students - Be part of an exciting program with your local Chamber of Commerce. Chamber Student Network is comprised of high school and college students engaged in and shaping a program geared toward connecting students to the business community. Students have the opportunity to let the Longmont Chamber know what?s relevant and vital for them to learn\, grow and connect.</span></span><br>\n<span style="display: none\;">&nbsp\;</span><span style="font-family: &quot\;Century Gothic Regular&quot\;\, Helvetica\, Arial\, Lucida\, sans-serif\;">Chamber Members -&nbsp\;Education and business collide in Chamber Student Network\, a Longmont Chamber program run by local students. Students get the opportunity to connect to businesses and learn the necessary skills to be successful in business.</span><span style="display: none\;">&nbsp\;</span></span>
LOCATION:Longmont Area Chamber of Commerce 528 Main Street\, Longmont CO 80501
UID:e.3083.6874
SEQUENCE:3
DTSTAMP:20260426T023922Z
URL:https://members.longmontchamber.org/events/details/chamber-student-network-09-18-2019-6874
END:VEVENT

END:VCALENDAR
