BEGIN:VCALENDAR
VERSION:2.0
PRODID:-//ChamberMaster//Event Calendar 2.0//EN
METHOD:PUBLISH
X-PUBLISHED-TTL:P3D
REFRESH-INTERVAL:P3D
CALSCALE:GREGORIAN
BEGIN:VEVENT
DTSTART:20201118T230000Z
DTEND:20201119T003000Z
X-MICROSOFT-CDO-ALLDAYEVENT:FALSE
SUMMARY:Chamber Student Network
DESCRIPTION:Join us for a Round Robin with top Longmont business leaders\n\nLearn how to start and manage a business\, explore career paths and just get to know these great mentors and other CSN members.\n\n\n\nChamber Student Network (CSN) is an energetic\, dedicated group of high school and post-secondary students who meet monthly to learn the value of the Chamber as a resource and in making connections to help them reach their education and business goals.\n\n\n\nStudents high school and above are welcome to join!
X-ALT-DESC;FMTTYPE=text/html:<span style="font-size:12px\;"><span style="font-family:tahoma\;"><span style="color:black\;">Join us for a Round Robin with top Longmont business leaders<br />\nLearn how to start and manage a business\, explore career paths and just get to know these great mentors and other CSN members.<br />\n<br />\nChamber Student Network (CSN) is an energetic\, dedicated group of high school and post-secondary students who meet monthly to learn the value of the Chamber as a resource and in making connections to help them reach their education and business goals.</span><br />\n<br />\nStudents high school and above are welcome to join!</span></span>
LOCATION:Contact Kathy Stevens for Zoom invitation.
UID:e.3083.7401
SEQUENCE:3
DTSTAMP:20260425T034349Z
URL:https://members.longmontchamber.org/events/details/chamber-student-network-7401
END:VEVENT

END:VCALENDAR
