BEGIN:VCALENDAR
VERSION:2.0
PRODID:-//ChamberMaster//Event Calendar 2.0//EN
METHOD:PUBLISH
X-PUBLISHED-TTL:P3D
REFRESH-INTERVAL:P3D
CALSCALE:GREGORIAN
BEGIN:VEVENT
DTSTART:20220122T010000Z
DTEND:20220122T023000Z
X-MICROSOFT-CDO-ALLDAYEVENT:FALSE
SUMMARY:Chamber Student Network
DESCRIPTION:Chamber Student Network (CSN) is an energetic\, dedicated group of high school and post-secondary students who meet monthly to learn the value of the Chamber as a resource and in making connections to help them reach their education and business goals.\n\n\n\n\n\n\n\nJoin us and learn more about Chamber Student Network.\n\n\n\nStudents high school and above are invited to join CSN.
X-ALT-DESC;FMTTYPE=text/html:<span style="font-family: tahoma\; font-size: 12px\; color: black\;">Chamber Student Network (CSN) is an energetic\, dedicated group of high school and post-secondary students who meet monthly to learn the value of the Chamber as a resource and in making connections to help them reach their education and business goals.</span><br style="font-family: tahoma\; font-size: 12px\;" />\n<br style="font-family: tahoma\; font-size: 12px\;" />\n<br style="font-family: tahoma\; font-size: 12px\;" />\n<br style="font-family: tahoma\; font-size: 12px\;" />\n<span style="font-family: tahoma\; font-size: 12px\;">Join us and learn more about Chamber Student Network.</span><br style="font-family: tahoma\; font-size: 12px\;" />\n<br style="font-family: tahoma\; font-size: 12px\;" />\n<span style="font-family: tahoma\; font-size: 12px\;">Students high school and above are invited to join CSN.</span>
LOCATION:Chamber Student Network (CSN) is an energetic\, dedicated group of high school and post-secondary students who meet monthly to learn the value of the Chamber as a resource and in making connections to help them reach their education and business goals. Join us and learn more about Chamber Student Network. Students high school and above are invited to join CSN.
UID:e.3083.8648
SEQUENCE:3
DTSTAMP:20260424T043621Z
URL:https://members.longmontchamber.org/events/details/chamber-student-network-8648
END:VEVENT

END:VCALENDAR
