BEGIN:VCALENDAR
VERSION:2.0
PRODID:-//ChamberMaster//Event Calendar 2.0//EN
METHOD:PUBLISH
X-PUBLISHED-TTL:P3D
REFRESH-INTERVAL:P3D
CALSCALE:GREGORIAN
BEGIN:VEVENT
DTSTART:20220407T000000Z
DTEND:20220407T013000Z
X-MICROSOFT-CDO-ALLDAYEVENT:FALSE
SUMMARY:Chamber Student Network
DESCRIPTION:Chamber Student Network (CSN) is an energetic\, dedicated group of high school and post-secondary students who meet monthly to learn the value of the Chamber as a resource and in making connections to help them reach their education and business goals.\n\n\n\nBe part of an exciting program with your local chamber of commerce.  Chamber Student Network is geared toward connecting students to the business and community.  Comprised solely of and operated by engaged students.\n\n\n\nJoin us to learn more.\n\n\n\nStudents high school and above are invited to join CSN.
X-ALT-DESC;FMTTYPE=text/html:<span style="font-family: tahoma\; font-size: 12px\; color: black\;">Chamber Student Network (CSN) is an energetic\, dedicated group of high school and post-secondary students who meet monthly to learn the value of the Chamber as a resource and in making connections to help them reach their education and business goals.</span><br />\n<br />\n<span style="color: rgb(0\, 0\, 0)\; font-family: tahoma\; font-size: 12px\;">Be part of an exciting program with your local chamber of commerce.&nbsp\; Chamber Student Network is geared toward connecting students to the business and community.&nbsp\; Comprised solely of and operated by engaged students.</span><br style="font-family: tahoma\; font-size: 12px\;" />\n<br style="font-family: tahoma\; font-size: 12px\;" />\n<span style="font-family: tahoma\; font-size: 12px\;">Join us to learn more.</span><br style="font-family: tahoma\; font-size: 12px\;" />\n<br style="font-family: tahoma\; font-size: 12px\;" />\n<span style="font-family: tahoma\; font-size: 12px\;">Students high school and above are invited to join CSN.</span>
LOCATION:Zoom meeting format Join Zoom Meeting
UID:e.3083.8649
SEQUENCE:3
DTSTAMP:20260423T235648Z
URL:https://members.longmontchamber.org/events/details/chamber-student-network-8649
END:VEVENT

END:VCALENDAR
