BEGIN:VCALENDAR
VERSION:2.0
PRODID:-//ChamberMaster//Event Calendar 2.0//EN
METHOD:PUBLISH
X-PUBLISHED-TTL:P3D
REFRESH-INTERVAL:P3D
CALSCALE:GREGORIAN
BEGIN:VEVENT
DTSTART:20240221T000000Z
DTEND:20240221T013000Z
X-MICROSOFT-CDO-ALLDAYEVENT:FALSE
SUMMARY:Chamber Student Network - Business Networking Event
DESCRIPTION:High School and college students are invited to meet\, mingle and learn about Chamber Student Network (CSN).  CSN Leadership Team will explain how you can benefit from CSN participation. \n\nCSN will also be presenting a fabulous opportunity with the upcoming business plan competition.  CSN Leadership is partnering with students from Front Range Community College's new Bachelors of Science Creative Industries (BCI) degree to host the competition open to high school and above students.
X-ALT-DESC;FMTTYPE=text/html:<div style="border: 0px\; font-variant-numeric: inherit\; font-variant-east-asian: inherit\; font-variant-alternates: inherit\; font-variant-position: inherit\; font-stretch: inherit\; font-size: medium\; line-height: inherit\; font-family: &quot\;Segoe UI Web (West European)&quot\;\, &quot\;Segoe UI&quot\;\, -apple-system\, BlinkMacSystemFont\, Roboto\, &quot\;Helvetica Neue&quot\;\, sans-serif\; font-optical-sizing: inherit\; font-kerning: inherit\; font-feature-settings: inherit\; font-variation-settings: inherit\; margin: 0px\; padding: 0px\; vertical-align: baseline\; color: rgb(0\, 0\, 0)\;"><span style="font-size:16px\;"><span style="border: 0px\; font-style: inherit\; font-variant: inherit\; font-weight: inherit\; font-stretch: inherit\; line-height: inherit\; font-family: sans-serif\, Arial\, Verdana\, &quot\;Trebuchet MS&quot\;\; font-optical-sizing: inherit\; font-kerning: inherit\; font-feature-settings: inherit\; font-variation-settings: inherit\; margin: 0px\; padding: 0px\; vertical-align: baseline\; color: rgb(51\, 51\, 51)\;">High School and college students are invited to meet\, mingle and learn about Chamber Student Network (CSN).&nbsp\; CSN Leadership Team will explain how you can benefit from CSN participation.&nbsp\;</span></span></div>\n\n<div style="border: 0px\; font-variant-numeric: inherit\; font-variant-east-asian: inherit\; font-variant-alternates: inherit\; font-variant-position: inherit\; font-stretch: inherit\; font-size: medium\; line-height: inherit\; font-family: &quot\;Segoe UI Web (West European)&quot\;\, &quot\;Segoe UI&quot\;\, -apple-system\, BlinkMacSystemFont\, Roboto\, &quot\;Helvetica Neue&quot\;\, sans-serif\; font-optical-sizing: inherit\; font-kerning: inherit\; font-feature-settings: inherit\; font-variation-settings: inherit\; margin: 0px\; padding: 0px\; vertical-align: baseline\; color: rgb(0\, 0\, 0)\;"><span style="font-size:16px\;"><span style="border: 0px\; font-style: inherit\; font-variant: inherit\; font-weight: inherit\; font-stretch: inherit\; line-height: inherit\; font-family: sans-serif\, Arial\, Verdana\, &quot\;Trebuchet MS&quot\;\; font-optical-sizing: inherit\; font-kerning: inherit\; font-feature-settings: inherit\; font-variation-settings: inherit\; margin: 0px\; padding: 0px\; vertical-align: baseline\; color: rgb(51\, 51\, 51)\;">CSN will also be presenting a fabulous opportunity with the upcoming business plan competition.&nbsp\; CSN Leadership is partnering with students from Front Range Community College&#39\;s new&nbsp\;</span><span style="border: 0px\; font-style: inherit\; font-variant: inherit\; font-weight: inherit\; font-stretch: inherit\; line-height: inherit\; font-family: Arial\, sans-serif\; font-optical-sizing: inherit\; font-kerning: inherit\; font-feature-settings: inherit\; font-variation-settings: inherit\; margin: 0px\; padding: 0px\; vertical-align: baseline\;">Bachelors of Science Creative Industries (BCI) degree to host the competition open to high school and above students.&nbsp\;&nbsp\;</span></span></div>\n
LOCATION:This is a hybrid event\, location TBD. You can also join via Zoom. CSN February meeting held online via zoom and in person at FRCC BCC Community Room Looking forward to seeing you there! Join Zoom Meeting https://us06web.zoom.us/j/85785788983?pwd=k3WABaz15EXxHTSKNzXElSDbxUaBCQ.1 Meeting ID: 857 8578 8983 Passcode: 040221 One tap mobile +17207072699\,\,85785788983#\,\,\,\,*040221# US (Denver) Dial by your location +1 720 707 2699 US (Denver)
UID:e.3083.10021
SEQUENCE:3
DTSTAMP:20260422T132749Z
URL:https://members.longmontchamber.org/events/details/chamber-student-network-business-networking-event-10021
END:VEVENT

END:VCALENDAR
