BEGIN:VCALENDAR
VERSION:2.0
PRODID:-//ChamberMaster//Event Calendar 2.0//EN
METHOD:PUBLISH
X-PUBLISHED-TTL:P3D
REFRESH-INTERVAL:P3D
CALSCALE:GREGORIAN
BEGIN:VEVENT
DTSTART:20231107T230000Z
DTEND:20231108T010000Z
X-MICROSOFT-CDO-ALLDAYEVENT:FALSE
SUMMARY:Chamber Student Network - Business Networking Event
DESCRIPTION:Chamber Student Network is hosting a panel of Chamber members to meet and network with CSN students.  CSN is comprised of high school and above students.
X-ALT-DESC;FMTTYPE=text/html:Chamber Student Network is hosting a panel of Chamber members to meet and network with CSN students.&nbsp\; CSN is comprised of high school and above students.
LOCATION:Times Collaborative 338 Main Street Longmont\, CO 80501
UID:e.3083.9980
SEQUENCE:3
DTSTAMP:20260422T194704Z
URL:https://members.longmontchamber.org/events/details/chamber-student-network-business-networking-event-9980
END:VEVENT

END:VCALENDAR
