BEGIN:VCALENDAR
VERSION:2.0
PRODID:-//ChamberMaster//Event Calendar 2.0//EN
METHOD:PUBLISH
X-PUBLISHED-TTL:P3D
REFRESH-INTERVAL:P3D
CALSCALE:GREGORIAN
BEGIN:VEVENT
DTSTART:20220203T010000Z
DTEND:20220203T023000Z
X-MICROSOFT-CDO-ALLDAYEVENT:FALSE
SUMMARY:Chamber Student Network - Date Change to Feb 2
DESCRIPTION:Chamber Student Network (CSN) is an energetic\, dedicated group of high school and post-secondary students who meet monthly to learn the value of the Chamber as a resource and in making connections to help them reach their education and business goals.\n\n\n\nBe part of an exciting program with your local chamber of commerce.  Chamber Student Network is geared toward connecting students to the business and community.  Comprised solely of and operated by engaged students.\n\n\n\nJoin us and learn more about Chamber Student Network.\n\nStudents high school and above are invited to join CSN.
X-ALT-DESC;FMTTYPE=text/html:Chamber Student Network (CSN) is an energetic\, dedicated group of high school and post-secondary students who meet monthly to learn the value of the Chamber as a resource and in making connections to help them reach their education and business goals.<br />\n<br />\nBe part of an exciting program with your local chamber of commerce.&nbsp\; Chamber Student Network is geared toward connecting students to the business and community.&nbsp\; Comprised solely of and operated by engaged students.<br />\n<br />\nJoin us and learn more about Chamber Student Network.<br />\nStudents high school and above are invited to join CSN.
LOCATION:Zoom meeting format Join Zoom Meeting Meeting ID: 822 5648 7424 Passcode: 747272 One tap mobile +16699006833\,\,82256487424#\,\,\,\,*747272# Dial in by phone: 669-900-6833
UID:e.3083.8482
SEQUENCE:3
DTSTAMP:20260424T031221Z
URL:https://members.longmontchamber.org/events/details/chamber-student-network-date-change-to-feb-2-8482
END:VEVENT

END:VCALENDAR
