BEGIN:VCALENDAR
VERSION:2.0
PRODID:-//ChamberMaster//Event Calendar 2.0//EN
METHOD:PUBLISH
X-PUBLISHED-TTL:P3D
REFRESH-INTERVAL:P3D
CALSCALE:GREGORIAN
BEGIN:VEVENT
DTSTART:20231024T220000Z
DTEND:20231024T233000Z
X-MICROSOFT-CDO-ALLDAYEVENT:FALSE
SUMMARY:Chamber Student Network: Discover Yourself in Business
DESCRIPTION:Hello Students and Friends!\n\nCome join our industry panel interview with professionals from the Longmont Area Chamber of Commerce! Come ask and learn about them and their professional careers and businesses!   You can also enjoy some free pizza!\n\n\nPlease RSVP so we can get a head count! Click here to RSVP! \n\n \n\nWe can't wait to see you there!\n\n \n\nCSN Leadership
X-ALT-DESC;FMTTYPE=text/html:<span style="font-size:14px\;"><span style="font-family:tahoma\;"><span font-size:="" helvetica="" segoe="" style="color: rgb(36\, 36\, 36)\; font-family: " ui="" web="" west="">Hello Students and Friends!<br />\nCome join our industry panel interview with professionals from the Longmont Area Chamber of Commerce! Come ask and learn about them and their professional&nbsp\;careers&nbsp\;and businesses!&nbsp\; &nbsp\;You can also enjoy some free pizza!</span></span></span>\n<div color:="" font-feature-settings:="" font-kerning:="" font-optical-sizing:="" font-variation-settings:="" helvetica="" margin:="" padding:="" segoe="" style="border: 0px\; font-variant-numeric: inherit\; font-variant-east-asian: inherit\; font-variant-alternates: inherit\; font-variant-position: inherit\; font-stretch: inherit\; font-size: 15px\; line-height: inherit\; font-family: " ui="" vertical-align:="" web="" west=""><br />\n<span style="font-size:14px\;"><span style="font-family:tahoma\;">Please RSVP so we can get a head count!&nbsp\;<a data-auth="NotApplicable" data-linkindex="144" href="https://forms.gle/JBnx4bXT9dECWnkZ6" rel="noopener noreferrer" style="border: 0px\; font: inherit\; margin: 0px\; padding: 0px\; vertical-align: baseline\;" target="_blank">Click here to RSVP!&nbsp\;</a></span></span></div>\n\n<div color:="" font-feature-settings:="" font-kerning:="" font-optical-sizing:="" font-variation-settings:="" helvetica="" margin:="" padding:="" segoe="" style="border: 0px\; font-variant-numeric: inherit\; font-variant-east-asian: inherit\; font-variant-alternates: inherit\; font-variant-position: inherit\; font-stretch: inherit\; font-size: 15px\; line-height: inherit\; font-family: " ui="" vertical-align:="" web="" west="">&nbsp\;</div>\n\n<div color:="" font-feature-settings:="" font-kerning:="" font-optical-sizing:="" font-variation-settings:="" helvetica="" margin:="" padding:="" segoe="" style="border: 0px\; font-variant-numeric: inherit\; font-variant-east-asian: inherit\; font-variant-alternates: inherit\; font-variant-position: inherit\; font-stretch: inherit\; font-size: 15px\; line-height: inherit\; font-family: " ui="" vertical-align:="" web="" west=""><span style="font-size:14px\;"><span style="font-family:tahoma\;">We can&#39\;t&nbsp\;wait to see you there!</span></span></div>\n\n<div color:="" font-feature-settings:="" font-kerning:="" font-optical-sizing:="" font-variation-settings:="" helvetica="" margin:="" padding:="" segoe="" style="border: 0px\; font-variant-numeric: inherit\; font-variant-east-asian: inherit\; font-variant-alternates: inherit\; font-variant-position: inherit\; font-stretch: inherit\; font-size: 15px\; line-height: inherit\; font-family: " ui="" vertical-align:="" web="" west="">&nbsp\;</div>\n\n<div color:="" font-feature-settings:="" font-kerning:="" font-optical-sizing:="" font-variation-settings:="" helvetica="" margin:="" padding:="" segoe="" style="border: 0px\; font-variant-numeric: inherit\; font-variant-east-asian: inherit\; font-variant-alternates: inherit\; font-variant-position: inherit\; font-stretch: inherit\; font-size: 15px\; line-height: inherit\; font-family: " ui="" vertical-align:="" web="" west=""><span style="font-size:14px\;"><span style="font-family:tahoma\;">CSN Leadership</span></span></div>\n
LOCATION:Bolo Realtors 420 Kimbark Street\, Longmont Click here to see it on Google Maps! Also on Zoom! Click here for the link
UID:e.3083.9967
SEQUENCE:3
DTSTAMP:20260422T214525Z
URL:https://members.longmontchamber.org/events/details/chamber-student-network-discover-yourself-in-business-9967
END:VEVENT

END:VCALENDAR
