BEGIN:VCALENDAR
VERSION:2.0
PRODID:-//ChamberMaster//Event Calendar 2.0//EN
METHOD:PUBLISH
X-PUBLISHED-TTL:P3D
REFRESH-INTERVAL:P3D
CALSCALE:GREGORIAN
BEGIN:VEVENT
DTSTART:20250326T200000Z
DTEND:20250326T213000Z
X-MICROSOFT-CDO-ALLDAYEVENT:FALSE
SUMMARY:Chamber Student Network Event
DESCRIPTION:Business Hack-a-thon\n\n \n\nEvent Overview: Students will be working in teams of 2-4 to hack real world\, and local business challenges. Business challenges will be provided and students will have to come up with unique and creative solutions. At the halfway point chamber member judges will meet with each table to provide feedback. Students will then be able to use the remaining time to finalize their plan. At the end\, students will review their plans with the judges and the judges will determine their top 3 and hand out prizes. Food provided!
X-ALT-DESC;FMTTYPE=text/html:<p class="x_MsoNormal" style="margin: 0in\; font-size: 12pt\; font-family: Aptos\, sans-serif\; color: rgb(36\, 36\, 36)\;"><span style="font-size:22px\;"><strong><span arial="" color:="" data-olk-copy-source="MessageBody" font-feature-settings:="" font-kerning:="" font-optical-sizing:="" font-size-adjust:="" font-variation-settings:="" margin:="" nova="" padding:="" style="border: 0px\; font-style: inherit\; font-variant: inherit\; font-weight: inherit\; font-stretch: inherit\; line-height: inherit\;" vertical-align:="">Business Hack-a-thon</span></strong></span><br />\n&nbsp\;</p>\n\n<p class="x_MsoNormal" style="margin: 0in\; font-size: 12pt\; font-family: Aptos\, sans-serif\; color: rgb(36\, 36\, 36)\;"><span style="font-size:18px\;"><u><span arial="" color:="" font-feature-settings:="" font-kerning:="" font-optical-sizing:="" font-size-adjust:="" font-variation-settings:="" margin:="" nova="" padding:="" style="border: 0px\; font-style: inherit\; font-variant: inherit\; font-weight: inherit\; font-stretch: inherit\; line-height: inherit\;" vertical-align:="">Event Overview</span></u><span arial="" color:="" font-feature-settings:="" font-kerning:="" font-optical-sizing:="" font-size-adjust:="" font-variation-settings:="" margin:="" nova="" padding:="" style="border: 0px\; font-style: inherit\; font-variant: inherit\; font-weight: inherit\; font-stretch: inherit\; line-height: inherit\;" vertical-align:="">:&nbsp\;Students will be working in teams of 2-4 to hack real world\, and local business challenges. Business challenges will be provided and students will have to come up with unique and creative solutions. At the halfway point chamber member judges will meet with each table to provide feedback. Students will then be able to use the remaining time to finalize their plan. At the end\, students will review their plans with the judges and the judges will determine their top 3 and hand out prizes. Food provided!</span></span></p>\n
LOCATION:Front Range Community College - enter through door C4 Located in the Multicultural room (right of the cafe).
UID:e.3083.12677
SEQUENCE:3
DTSTAMP:20260421T160147Z
URL:https://members.longmontchamber.org/events/details/chamber-student-network-event-03-26-2025-12677
END:VEVENT

END:VCALENDAR
