BEGIN:VCALENDAR
VERSION:2.0
PRODID:-//ChamberMaster//Event Calendar 2.0//EN
METHOD:PUBLISH
X-PUBLISHED-TTL:P3D
REFRESH-INTERVAL:P3D
CALSCALE:GREGORIAN
BEGIN:VEVENT
DTSTART:20240409T223000Z
DTEND:20240409T233000Z
X-MICROSOFT-CDO-ALLDAYEVENT:FALSE
SUMMARY:Chamber Student Network Event
DESCRIPTION:Click here to learn more and sign up for Chamber Student Network's (CSN) next event happening Tuesday April 9th 5-6:30 at Front Range Community College 2190 Miller Dr. Longmont CO. The CSN's theme this semester is build your business plan where they will focus on helping students learn about the elements of a business plan in order to develop their own. At the end of the semester\, CSN will be hosting a business plan competition (Tuesday April 30th) with cash prizes and giveaways for 1st-3rd place. This event will be a workshop with industry professionals to help students refine their business plans.
X-ALT-DESC;FMTTYPE=text/html:<span style="color: rgb(66\, 66\, 66)\; font-family: &quot\;Arial Nova Light&quot\;\, sans-serif\; font-size: 14.6667px\; background-color: rgb(255\, 255\, 255)\;"><a href="https://linktr.ee/csnlongmont?fbclid=PAAab33N7Xuk5839x99_hZ2kxdWl-WdQWHpSoIgJNUwo20jPImTY-_y0Aa3_c_aem_AQwWxpSeQG7q6eAT7bgiiq6enV1XsmzyTe1cAiQFzro6cCuRb372gWzzRxGPPCJF8iA">Click here to learn more and sign up</a> for Chamber Student Network&#39\;s (CSN) next event happening Tuesday April 9</span><sup style="color: rgb(66\, 66\, 66)\; font-family: &quot\;Arial Nova Light&quot\;\, sans-serif\; background-color: rgb(255\, 255\, 255)\;">th</sup><span style="color: rgb(66\, 66\, 66)\; font-family: &quot\;Arial Nova Light&quot\;\, sans-serif\; font-size: 14.6667px\; background-color: rgb(255\, 255\, 255)\;">&nbsp\;5-6:30 at Front Range Community College 2190 Miller Dr. Longmont CO. The CSN&rsquo\;s theme this semester is build your business plan where they will focus on helping students learn about the elements of a business plan in order to develop their own. At the end of the semester\, CSN will be hosting a business plan competition (Tuesday April 30</span><sup style="color: rgb(66\, 66\, 66)\; font-family: &quot\;Arial Nova Light&quot\;\, sans-serif\; background-color: rgb(255\, 255\, 255)\;">th</sup><span style="color: rgb(66\, 66\, 66)\; font-family: &quot\;Arial Nova Light&quot\;\, sans-serif\; font-size: 14.6667px\; background-color: rgb(255\, 255\, 255)\;">) with cash prizes and giveaways for 1</span><sup style="color: rgb(66\, 66\, 66)\; font-family: &quot\;Arial Nova Light&quot\;\, sans-serif\; background-color: rgb(255\, 255\, 255)\;">st</sup><span style="color: rgb(66\, 66\, 66)\; font-family: &quot\;Arial Nova Light&quot\;\, sans-serif\; font-size: 14.6667px\; background-color: rgb(255\, 255\, 255)\;">-3</span><sup style="color: rgb(66\, 66\, 66)\; font-family: &quot\;Arial Nova Light&quot\;\, sans-serif\; background-color: rgb(255\, 255\, 255)\;">rd</sup><span style="color: rgb(66\, 66\, 66)\; font-family: &quot\;Arial Nova Light&quot\;\, sans-serif\; font-size: 14.6667px\; background-color: rgb(255\, 255\, 255)\;">&nbsp\;place. This event will be a workshop with industry professionals to help students refine their business plans.</span>
LOCATION:TBD
UID:e.3083.10060
SEQUENCE:3
DTSTAMP:20260422T103039Z
URL:https://members.longmontchamber.org/events/details/chamber-student-network-event-10060
END:VEVENT

END:VCALENDAR
