BEGIN:VCALENDAR
VERSION:2.0
PRODID:-//ChamberMaster//Event Calendar 2.0//EN
METHOD:PUBLISH
X-PUBLISHED-TTL:P3D
REFRESH-INTERVAL:P3D
CALSCALE:GREGORIAN
BEGIN:VEVENT
DTSTART:20240430T230000Z
DTEND:20240501T003000Z
X-MICROSOFT-CDO-ALLDAYEVENT:FALSE
SUMMARY:Chamber Student Network Event
DESCRIPTION:Tuesday April 30th 5-6:30 at Front Range Community College 2190 Miller Dr. Longmont CO. The CSN's theme this semester is build your business plan where they will focus on helping students learn about the elements of a business plan in order to develop their own. At the end of the semester\, CSN will be hosting a business plan competition (Tuesday April 30th) with cash prizes and giveaways for 1st-3rd place. The process will be to submit a word document business plan (templates provided)\, and a 15-minute presentation\, with winners selected at the end (1st Place $250 + swag bag\, 2nd place $100 + swag bag\, 3rd $50 + swag bag)
X-ALT-DESC;FMTTYPE=text/html:<span style="color: rgb(66\, 66\, 66)\; font-family: &quot\;Arial Nova Light&quot\;\, sans-serif\; font-size: 14.6667px\; background-color: rgb(255\, 255\, 255)\;">Tuesday April 30</span><sup style="color: rgb(66\, 66\, 66)\; font-family: &quot\;Arial Nova Light&quot\;\, sans-serif\; background-color: rgb(255\, 255\, 255)\;">th</sup><span style="color: rgb(66\, 66\, 66)\; font-family: &quot\;Arial Nova Light&quot\;\, sans-serif\; font-size: 14.6667px\; background-color: rgb(255\, 255\, 255)\;">&nbsp\;5-6:30 at Front Range Community College 2190 Miller Dr. Longmont CO. The CSN&rsquo\;s theme this semester is build your business plan where they will focus on helping students learn about the elements of a business plan in order to develop their own. At the end of the semester\, CSN will be hosting a business plan competition (Tuesday April 30</span><sup style="color: rgb(66\, 66\, 66)\; font-family: &quot\;Arial Nova Light&quot\;\, sans-serif\; background-color: rgb(255\, 255\, 255)\;">th</sup><span style="color: rgb(66\, 66\, 66)\; font-family: &quot\;Arial Nova Light&quot\;\, sans-serif\; font-size: 14.6667px\; background-color: rgb(255\, 255\, 255)\;">) with cash prizes and giveaways for 1</span><sup style="color: rgb(66\, 66\, 66)\; font-family: &quot\;Arial Nova Light&quot\;\, sans-serif\; background-color: rgb(255\, 255\, 255)\;">st</sup><span style="color: rgb(66\, 66\, 66)\; font-family: &quot\;Arial Nova Light&quot\;\, sans-serif\; font-size: 14.6667px\; background-color: rgb(255\, 255\, 255)\;">-3</span><sup style="color: rgb(66\, 66\, 66)\; font-family: &quot\;Arial Nova Light&quot\;\, sans-serif\; background-color: rgb(255\, 255\, 255)\;">rd</sup><span style="color: rgb(66\, 66\, 66)\; font-family: &quot\;Arial Nova Light&quot\;\, sans-serif\; font-size: 14.6667px\; background-color: rgb(255\, 255\, 255)\;">&nbsp\;place. The process will be to submit a word document business plan (templates provided)\, and a 15-minute presentation\, with winners selected at the end (1</span><sup style="color: rgb(66\, 66\, 66)\; font-family: &quot\;Arial Nova Light&quot\;\, sans-serif\; background-color: rgb(255\, 255\, 255)\;">st</sup><span style="color: rgb(66\, 66\, 66)\; font-family: &quot\;Arial Nova Light&quot\;\, sans-serif\; font-size: 14.6667px\; background-color: rgb(255\, 255\, 255)\;">&nbsp\;Place $250 + swag bag\, 2</span><sup style="color: rgb(66\, 66\, 66)\; font-family: &quot\;Arial Nova Light&quot\;\, sans-serif\; background-color: rgb(255\, 255\, 255)\;">nd</sup><span style="color: rgb(66\, 66\, 66)\; font-family: &quot\;Arial Nova Light&quot\;\, sans-serif\; font-size: 14.6667px\; background-color: rgb(255\, 255\, 255)\;">&nbsp\;place $100 + swag bag\, 3</span><sup style="color: rgb(66\, 66\, 66)\; font-family: &quot\;Arial Nova Light&quot\;\, sans-serif\; background-color: rgb(255\, 255\, 255)\;">rd</sup><span style="color: rgb(66\, 66\, 66)\; font-family: &quot\;Arial Nova Light&quot\;\, sans-serif\; font-size: 14.6667px\; background-color: rgb(255\, 255\, 255)\;">&nbsp\;$50 + swag bag)</span>
LOCATION:Front Range Community College 2190 Miller Dr. Longmont CO
UID:e.3083.10061
SEQUENCE:3
DTSTAMP:20260422T115523Z
URL:https://members.longmontchamber.org/events/details/chamber-student-network-event-10061
END:VEVENT

END:VCALENDAR
