BEGIN:VCALENDAR
VERSION:2.0
PRODID:-//ChamberMaster//Event Calendar 2.0//EN
METHOD:PUBLISH
X-PUBLISHED-TTL:P3D
REFRESH-INTERVAL:P3D
CALSCALE:GREGORIAN
BEGIN:VEVENT
DTSTART:20241119T230000Z
DTEND:20241120T003000Z
X-MICROSOFT-CDO-ALLDAYEVENT:FALSE
SUMMARY:Chamber Student Network Event
DESCRIPTION:Business Panel with FBLA\n\n\n\nThe Chamber Student Network (CSN) is having its last event of 2024!  The event will feature local business owners for students to network with and learn about how to present themselves professionally.\n\n\n\nCollege and Highschool Students - Engage with our community leaders at a community networking event with the LACC.\n\n\n\nMulticultural Center at Front Range Community College 2190 Miller Dr. Longmont CO.
X-ALT-DESC;FMTTYPE=text/html:<span style="color: rgb(66\, 66\, 66)\; font-family: &quot\;Arial Nova Light&quot\;\, sans-serif\; font-size: 14.6667px\; background-color: rgb(255\, 255\, 255)\;"><span style="font-size:24px\;"><strong>Business Panel with FBLA</strong></span><br />\n<br />\nThe Chamber Student Network (CSN) is having its last event of 2024!&nbsp\; The event will feature local business owners for students to network with and learn about how to present themselves professionally.</span><br />\n<br />\n<span style="color: rgb(66\, 66\, 66)\; font-family: &quot\;Arial Nova Light&quot\;\, sans-serif\; font-size: 14.6667px\; background-color: rgb(255\, 255\, 255)\;">College and Highschool Students - Engage with our community leaders at a community networking event with the LACC.<br />\n<br />\nMulticultural Center at Front Range Community College 2190 Miller Dr. Longmont CO.&nbsp\;</span>
LOCATION:Multicultural Center at Front Range Community College 2190 Miller Dr. Longmont CO
UID:e.3083.10267
SEQUENCE:3
DTSTAMP:20260421T222929Z
URL:https://members.longmontchamber.org/events/details/chamber-student-network-event-10267
END:VEVENT

END:VCALENDAR
