BEGIN:VCALENDAR
VERSION:2.0
PRODID:-//ChamberMaster//Event Calendar 2.0//EN
METHOD:PUBLISH
X-PUBLISHED-TTL:P3D
REFRESH-INTERVAL:P3D
CALSCALE:GREGORIAN
BEGIN:VEVENT
DTSTART:20220928T233000Z
DTEND:20220929T010000Z
X-MICROSOFT-CDO-ALLDAYEVENT:FALSE
SUMMARY:Chamber Student Network In Person Workshop
DESCRIPTION:Join Chamber Student Network for a\n\nNetworking In Person Workshop\n\nWednesday\, September 28 from 5:30-7:00pm\n\nAt Sugar Pine Catering\n\n1920 S Coffman St\n\nLongmont CO 80504\n\n\n\nClick here to sign up!\n\n\n\nLocation\, Beverages & Appetizers graciously sponsored by Sugar Pine Catering\n\nWingshack Wings Longmont graciously sponsoring and providing wings\n\n\n\nStudents high school and above as well as Chamber members are invited to learn about Chamber Student Network (CSN) and have the opportunity to practice networking skills.\n\n\n\nBe dressed for success in business casual.\n\n\n\nNew to CSN?  Click here to learn more.
X-ALT-DESC;FMTTYPE=text/html:<p>Join Chamber Student Network for a<br />\nNetworking&nbsp\;In Person Workshop<br />\nWednesday\, September 28 from 5:30-7:00pm<br />\nAt Sugar Pine Catering<br />\n1920 S Coffman St<br />\nLongmont CO 80504<br />\n<br />\n<strong><a href="https://forms.gle/M2D2AAvsUUxeMb827"><span style="color:#FF8C00\;">Click here to sign up!</span></a></strong><br />\n<br />\nLocation\, Beverages &amp\; Appetizers graciously sponsored by&nbsp\;<a href="http://longmontco.chambermaster.com/list/Member/sugar-pine-catering-grocery-restaurant-7290"><span style="color:#0000FF\;">Sugar Pine Catering</span></a><br />\n<a href="http://longmontco.chambermaster.com/list/Member/wing-shack-longmont-longmont-7708"><span style="color:#0000FF\;">Wingshack Wings Longmont</span></a> graciously sponsoring and providing wings<br />\n<br />\nStudents high school and above as well as Chamber members are invited to learn about Chamber Student Network (CSN) and have the opportunity to practice networking skills.<br />\n<br />\nBe dressed for success in business casual.<br />\n<br />\nNew to CSN?&nbsp\;<a href="https://linktr.ee/csnlongmont"> Click here to learn more.</a><br />\n&nbsp\;</p>\n
LOCATION:Sugar Pine Catering 1920 S Coffman St. Longmont CO 80504
UID:e.3083.9096
SEQUENCE:3
DTSTAMP:20260423T161559Z
URL:https://members.longmontchamber.org/events/details/chamber-student-network-in-person-workshop-9096
END:VEVENT

END:VCALENDAR
