BEGIN:VCALENDAR
VERSION:2.0
PRODID:-//ChamberMaster//Event Calendar 2.0//EN
METHOD:PUBLISH
X-PUBLISHED-TTL:P3D
REFRESH-INTERVAL:P3D
CALSCALE:GREGORIAN
BEGIN:VEVENT
DTSTART:20220901T000000Z
DTEND:20220901T013000Z
X-MICROSOFT-CDO-ALLDAYEVENT:FALSE
SUMMARY:Chamber Student Network Open House - Zoom event
DESCRIPTION:Chamber Student Network \n\nOpen House on Zoom\n\nWednesday\, August 31\, 2022\n\nHigh School and above students are invited to join.\n\nChamber members\, you can attend to learn more about this incredible group of students and how you can help!
X-ALT-DESC;FMTTYPE=text/html:Chamber Student Network&nbsp\;<br />\nOpen House on Zoom<br />\nWednesday\, August 31\, 2022<br />\nHigh School and above students are invited to join.<br />\nChamber members\, you can attend to learn more about this incredible group of students and how you can help!<br />\n&nbsp\;
LOCATION:Zoom event: Topic: Chamber Student Network (CSN) Open House Time: Wednesday\, Aug 31\, 2022 6-7:30 pm Join Zoom Meeting https://us02web.zoom.us/j/87599646575?pwd=WUVJTXh0aWxUVU9vMkZOV2xPLzVHZz09 Meeting ID: 875 9964 6575 Passcode: 181329 One tap mobile +17193594580\,\,87599646575#\,\,\,\,*181329# Dial in by phone: +1 719 359 4580
UID:e.3083.8840
SEQUENCE:3
DTSTAMP:20260423T191229Z
URL:https://members.longmontchamber.org/events/details/chamber-student-network-open-house-zoom-event-8840
END:VEVENT

END:VCALENDAR
