BEGIN:VCALENDAR
VERSION:2.0
PRODID:-//ChamberMaster//Event Calendar 2.0//EN
METHOD:PUBLISH
X-PUBLISHED-TTL:P3D
REFRESH-INTERVAL:P3D
CALSCALE:GREGORIAN
BEGIN:VEVENT
DTSTART:20200219T230000Z
DTEND:20200220T003000Z
X-MICROSOFT-CDO-ALLDAYEVENT:FALSE
SUMMARY:Chamber Student Network - Orientation for student members
DESCRIPTION:Chamber Student Network (CSN) is an energetic\, dedicated group of high school and post-secondary students who meet monthly to learn the value of the Chamber as a resource and in making connections to help them reach their education and business goals.\n\n\n\nJoin us and learn more about Chamber Student Network.\n\nStudents high school and above are invited to join CSN.
X-ALT-DESC;FMTTYPE=text/html:<span style="font-size:12px\;"><span style="font-family:tahoma\;"><span style="color:black\;">Chamber Student Network (CSN) is an energetic\, dedicated group of high school and post-secondary students who meet monthly to learn the value of the Chamber as a resource and in making connections to help them reach their education and business goals.</span><br />\n<br />\nJoin us and learn more about Chamber Student Network.<br />\nStudents high school and above are invited to join CSN.</span></span>
LOCATION:528 Main Street\, Longmont CO 80501
UID:e.3083.7395
SEQUENCE:3
DTSTAMP:20260425T182458Z
URL:https://members.longmontchamber.org/events/details/chamber-student-network-orientation-for-student-members-7395
END:VEVENT

END:VCALENDAR
