BEGIN:VCALENDAR
VERSION:2.0
PRODID:-//ChamberMaster//Event Calendar 2.0//EN
METHOD:PUBLISH
X-PUBLISHED-TTL:P3D
REFRESH-INTERVAL:P3D
CALSCALE:GREGORIAN
BEGIN:VEVENT
DTSTART:20210908T000000Z
DTEND:20210908T013000Z
X-MICROSOFT-CDO-ALLDAYEVENT:FALSE
SUMMARY:Chamber Student Network - Orientation for student members
DESCRIPTION:Chamber Student Network (CSN) is an energetic\, dedicated group of high school and post-secondary students who meet monthly to learn the value of the Chamber as a resource and in making connections to help them reach their education and business goals.\n\n\n\nJoin us September 7 for an orientation to Chamber Student Network as well as an opportunity to meet virtually or in person with other CSN participants.\n\n\n\nJoin us and learn more about Chamber Student Network.\n\nStudents high school and above are invited to join CSN.
X-ALT-DESC;FMTTYPE=text/html:<span style="font-size:12px\;"><span style="font-family:tahoma\;"><span style="color:black\;">Chamber Student Network (CSN) is an energetic\, dedicated group of high school and post-secondary students who meet monthly to learn the value of the Chamber as a resource and in making connections to help them reach their education and business goals.<br />\n<br />\nJoin us September 7 for an orientation to Chamber Student Network as well as an opportunity to meet virtually or in person with other CSN participants.</span><br />\n<br />\nJoin us and learn more about Chamber Student Network.<br />\nStudents high school and above are invited to join CSN.</span></span>
LOCATION:Hybrid Zoom/in person at the Longmont Chamber\, 528 Main Street\, Longmont CO 80501 Join Zoom Meeting Meeting ID: 822 5648 7424 Passcode: 747272 One tap mobile +16699006833\,\,82256487424#\,\,\,\,*747272# Dial in by phone: 669-900-6833
UID:e.3083.8477
SEQUENCE:3
DTSTAMP:20260424T110007Z
URL:https://members.longmontchamber.org/events/details/chamber-student-network-orientation-for-student-members-8477
END:VEVENT

END:VCALENDAR
