BEGIN:VCALENDAR
VERSION:2.0
PRODID:-//ChamberMaster//Event Calendar 2.0//EN
METHOD:PUBLISH
X-PUBLISHED-TTL:P3D
REFRESH-INTERVAL:P3D
CALSCALE:GREGORIAN
BEGIN:VEVENT
DTSTART:20220303T010000Z
DTEND:20220303T023000Z
X-MICROSOFT-CDO-ALLDAYEVENT:FALSE
SUMMARY:Chamber Student Network - Round Robin 2022
DESCRIPTION:Students!  Join us for Round Robin 2022.  Chamber members in the industries of Finance\, Construction\, Retail\, Education/Nonprofit\, Human Resources and Insurance Business Owner will be at this Zoom meeting.  A wonderful opportunity to hear from experts in these business fields and also to network and ask questions.\n\n\n\nChamber Student Network (CSN) is an energetic\, dedicated group of high school and post-secondary students who meet monthly to learn the value of the Chamber as a resource and in making connections to help them reach their education and business goals.\n\n\n\nBe part of an exciting program with your local chamber of commerce.  Chamber Student Network is geared toward connecting students to the business and community.  Comprised solely of and operated by engaged students.
X-ALT-DESC;FMTTYPE=text/html:<span style="font-family: tahoma\; font-size: 12px\; color: black\;">Students!&nbsp\; Join us for Round Robin 2022.&nbsp\; Chamber members in the industries of Finance\, Construction\, Retail\, Education/Nonprofit\, Human Resources and Insurance Business Owner will be at this Zoom meeting.&nbsp\; A wonderful opportunity to hear from experts in these business fields and also to network and ask questions.<br />\n<br />\nChamber Student Network (CSN) is an energetic\, dedicated group of high school and post-secondary students who meet monthly to learn the value of the Chamber as a resource and in making connections to help them reach their education and business goals.</span><br />\n<br />\n<span style="color: rgb(0\, 0\, 0)\; font-family: tahoma\; font-size: 12px\;">Be part of an exciting program with your local chamber of commerce.&nbsp\; Chamber Student Network is geared toward connecting students to the business and community.&nbsp\; Comprised solely of and operated by engaged students.</span>
LOCATION:Zoom meeting format Join Zoom Meeting
UID:e.3083.8647
SEQUENCE:3
DTSTAMP:20260424T013324Z
URL:https://members.longmontchamber.org/events/details/chamber-student-network-round-robin-2022-8647
END:VEVENT

END:VCALENDAR
