BEGIN:VCALENDAR
VERSION:2.0
PRODID:-//ChamberMaster//Event Calendar 2.0//EN
METHOD:PUBLISH
X-PUBLISHED-TTL:P3D
REFRESH-INTERVAL:P3D
CALSCALE:GREGORIAN
BEGIN:VEVENT
DTSTART:20221026T233000Z
DTEND:20221027T010000Z
X-MICROSOFT-CDO-ALLDAYEVENT:FALSE
SUMMARY:Chamber Student Network: Round-Robin
DESCRIPTION:Join Chamber Student Network Wednesday\, October 26\, 2022 for a Round Robin event on Zoom.\n\nStudents high school and above have the opportunity to practice networking skills while talking with and learning from Chamber members and other students about varying topics.
X-ALT-DESC;FMTTYPE=text/html:Join Chamber Student Network Wednesday\, October 26\, 2022 for a Round Robin event on Zoom.<br />\nStudents high school and above have the opportunity to practice networking skills while talking with and learning from Chamber members and other students about varying topics.&nbsp\;&nbsp\;
LOCATION:Click to join the Zoom event Meeting ID: 875 9964 6575 Passcode: 181329 One tap mobile +17193594580\,\,87599646575#\,\,\,\,*181329# US
UID:e.3083.9095
SEQUENCE:3
DTSTAMP:20260423T144408Z
URL:https://members.longmontchamber.org/events/details/chamber-student-network-round-robin-9095
END:VEVENT

END:VCALENDAR
