BEGIN:VCALENDAR
VERSION:2.0
PRODID:-//ChamberMaster//Event Calendar 2.0//EN
METHOD:PUBLISH
X-PUBLISHED-TTL:P3D
REFRESH-INTERVAL:P3D
CALSCALE:GREGORIAN
BEGIN:VEVENT
DTSTART:20230315T233000Z
DTEND:20230316T010000Z
X-MICROSOFT-CDO-ALLDAYEVENT:FALSE
SUMMARY:Chamber Student Network Workshop 3/15/23 - Market Yourself
DESCRIPTION:Chamber Student Network invites you to Front Range Community College Campus for an in-person event.\n\n\n\nLearn how to market yourself when networking\, interviews\, speeches\, and more!\n\n\n\nWe will have special guest Snow White\, owner of Snow White Apparel in Downtown Main Street\, Longmont\, Colorado to speak on marketing.\n\n\n\nTake part in workshops\, so you can practice and apply skills before you go out in the real world.\n\n\n\nMarch 15th\, 2023\n\n5:30-7:00 pm\n\n\n\nClick here to sign up!\n\n\n\n\n\nStudents high school and above as well as Chamber members are invited to learn about Chamber Student Network (CSN) and have the opportunity to practice networking skills.\n\n\n\nNew to CSN?  Click here to learn more.
X-ALT-DESC;FMTTYPE=text/html:<p>Chamber Student Network invites you to Front Range Community College Campus for an in-person event.<br />\n<br />\nLearn how to market yourself when networking\, interviews\, speeches\, and more!<br />\n<br />\nWe will have special&nbsp\;guest Snow White\,&nbsp\;owner of Snow White Apparel in Downtown Main Street\, Longmont\,&nbsp\;Colorado to speak on marketing.<br />\n<br />\nTake part in workshops\, so you can practice and apply skills before you go out in the real world.<br />\n<br />\n<span style="color:#010101\;">March 15th\, 2023<br />\n5:30-7:00 pm</span><br />\n<br />\n<strong><a href="https://forms.gle/M2D2AAvsUUxeMb827"><span style="color:#FF8C00\;">Click here to sign up!</span></a></strong><br />\n<br />\n<br />\nStudents high school and above as well as Chamber members are invited to learn about Chamber Student Network (CSN) and have the opportunity to practice networking skills.<br />\n<br />\nNew to CSN?&nbsp\;<a href="https://linktr.ee/csnlongmont"> Click here to learn more.</a></p>\n
LOCATION:Front Range Community College Boulder County\, Longmont Campus Community Room 2190 Miller Dr. Longmont\, CO 80501
UID:e.3083.9285
SEQUENCE:3
DTSTAMP:20260423T070730Z
URL:https://members.longmontchamber.org/events/details/chamber-student-network-workshop-3-15-23-market-yourself-9285
END:VEVENT

END:VCALENDAR
