BEGIN:VCALENDAR
VERSION:2.0
PRODID:-//ChamberMaster//Event Calendar 2.0//EN
METHOD:PUBLISH
X-PUBLISHED-TTL:P3D
REFRESH-INTERVAL:P3D
CALSCALE:GREGORIAN
BEGIN:VEVENT
DTSTART:20250906T190000Z
DTEND:20250906T230000Z
X-MICROSOFT-CDO-ALLDAYEVENT:FALSE
SUMMARY:Chile Roast Fest
DESCRIPTION:Longmont Twin Peaks Rotary is delighted to partner with Left Hand Brewing again on this fundraising project at the Beer Garden.  Proceeds from the sale of roasted green chiles and related products benefit the Twin Peaks Rotary Charity Fund first-generation student scholarships.  Come be part of the fun! Enjoy live music by Groove Holiday\, and a specially brewed chile beer!
X-ALT-DESC;FMTTYPE=text/html:<br />\n<span style="font-size:22px\;"><span style="font-family:verdana\,geneva\,sans-serif">Longmont Twin Peaks Rotary is delighted to partner with Left Hand Brewing again on this fundraising project at the Beer Garden.&nbsp\; Proceeds from the sale of roasted green chiles and related products benefit the Twin Peaks Rotary Charity Fund first-generation student scholarships.&nbsp\; Come be part of the fun!&nbsp\;Enjoy live music by Groove Holiday\, and a specially brewed chile&nbsp\;beer!&nbsp\;</span></span>
LOCATION:Left Hand Brewing Beer Garden
UID:e.3083.14231
SEQUENCE:3
DTSTAMP:20260421T064016Z
URL:https://members.longmontchamber.org/events/details/chile-roast-fest-09-06-2025-14231
END:VEVENT

END:VCALENDAR
