BEGIN:VCALENDAR
VERSION:2.0
PRODID:-//ChamberMaster//Event Calendar 2.0//EN
METHOD:PUBLISH
X-PUBLISHED-TTL:P3D
REFRESH-INTERVAL:P3D
CALSCALE:GREGORIAN
BEGIN:VEVENT
DTSTART:20240914T190000Z
DTEND:20240914T230000Z
X-MICROSOFT-CDO-ALLDAYEVENT:FALSE
SUMMARY:Chile Roast Fest
DESCRIPTION:4th Annual Chile Roast Fest 2024:\n\nA Partnership Between Longmont Twin Peaks Rotary and Left Hand Brewing\n\nSeptember 14th from 1 to 5 pm at the Beer Garden\n\n \n\n\nRoasted green chiles\, green chile beer\, food truck\, live music and more!\n\nOrder roasted green chiles\, empanadas\, green tamales and red tamales in advance.\n\nPick up at Chile Roast Fest.\n\nThe Fest benefits first generation college students and Front Range Community College
X-ALT-DESC;FMTTYPE=text/html:<p style="text-align: center\;"><strong><span style="font-family:verdana">4th Annual Chile Roast Fest 2024:<br />\nA Partnership Between Longmont Twin Peaks Rotary and Left Hand Brewing<br />\nSeptember 14th from 1 to 5 pm at the Beer Garden</span></strong><br />\n&nbsp\;</p>\n\n<hr />\n<p style="text-align: center\;"><strong><span style="font-family:verdana">Roasted green chiles\, green chile beer\, food truck\, live music and more!<br />\nOrder roasted green chiles\, empanadas\, green tamales and red tamales in advance.<br />\nPick up at Chile Roast Fest.<br />\nThe Fest benefits first generation college students and Front Range Community College</span></strong><br />\n&nbsp\;</p>\n
LOCATION:The Beer Garden at Left Hand Brewing 1245 Boston Avenue\, Longmont
UID:e.3083.10193
SEQUENCE:3
DTSTAMP:20260422T013416Z
URL:https://members.longmontchamber.org/events/details/chile-roast-fest-10193
END:VEVENT

END:VCALENDAR
