BEGIN:VCALENDAR
VERSION:2.0
PRODID:-//ChamberMaster//Event Calendar 2.0//EN
METHOD:PUBLISH
X-PUBLISHED-TTL:P3D
REFRESH-INTERVAL:P3D
CALSCALE:GREGORIAN
BEGIN:VEVENT
DTSTART:20250802T123000Z
DTEND:20250802T153000Z
X-MICROSOFT-CDO-ALLDAYEVENT:FALSE
SUMMARY:Chuckwagon Pancake Breakfast
DESCRIPTION:Come and git your fill of pancakes\, eggs\, and sausage. Enjoy a tasty breakfast before the Boulder County Fair Parade starts.  Proceeds to benefit Longmont Twin Peaks Rotary scholarship fund.
X-ALT-DESC;FMTTYPE=text/html:<br />\n<span style="font-size:18px\;"><strong>Come and git your fill of pancakes\, eggs\, and sausage.</strong>&nbsp\;Enjoy&nbsp\;a tasty breakfast before the Boulder County Fair Parade starts.&nbsp\; Proceeds to benefit Longmont Twin Peaks Rotary scholarship fund.</span>
LOCATION:Fourth Avenue and Kimbark Street Longmont Colorado
UID:e.3083.13570
SEQUENCE:3
DTSTAMP:20260421T082133Z
URL:https://members.longmontchamber.org/events/details/chuckwagon-pancake-breakfast-13570
END:VEVENT

END:VCALENDAR
