BEGIN:VCALENDAR
VERSION:2.0
PRODID:-//ChamberMaster//Event Calendar 2.0//EN
METHOD:PUBLISH
X-PUBLISHED-TTL:P3D
REFRESH-INTERVAL:P3D
CALSCALE:GREGORIAN
BEGIN:VEVENT
DTSTART:20240505T190000Z
DTEND:20240505T230000Z
X-MICROSOFT-CDO-ALLDAYEVENT:FALSE
SUMMARY:Cinco de Mayo Top Golf Tournament
DESCRIPTION:Join Skyline Kiwanis and PEARL Promise for a Cinco de Mayo Golf Tournament at Top Golf!  $100/player includes 3 hours of "Top Golf" with a fajita bar and prizes!  Registration begins at 1pm with tournament play starting at 2pm.  Drawings for prizes start at 4pm along with the Live Auction featuring renowned auctioneer OJ Pratt with Pacific Auctions.  Teams of 6 are encouraged to register!\n\nBusiness sponsorships from $3\,000 to $750 are also offered.  \n\nFor more information or to register please contact Jessica Bennett at jessica@pearlpromise.org
X-ALT-DESC;FMTTYPE=text/html:Join Skyline Kiwanis and PEARL Promise for a Cinco de Mayo Golf Tournament at Top Golf!&nbsp\; $100/player includes 3 hours of &quot\;Top Golf&quot\; with a fajita bar and prizes!&nbsp\; Registration begins at 1pm with tournament play starting at 2pm.&nbsp\; Drawings for prizes start at 4pm along with the Live Auction featuring renowned auctioneer OJ Pratt with Pacific Auctions.&nbsp\; Teams of 6 are encouraged to register!<br />\nBusiness sponsorships from $3\,000 to $750 are also offered.&nbsp\;&nbsp\;<br />\nFor more information or to register please contact Jessica Bennett at jessica@pearlpromise.org
LOCATION:Top Golf of Thornton 16011 Grant St. Thornton\, CO 80023
UID:e.3083.10067
SEQUENCE:3
DTSTAMP:20260422T090544Z
URL:https://members.longmontchamber.org/events/details/cinco-de-mayo-top-golf-tournament-10067
END:VEVENT

END:VCALENDAR
