BEGIN:VCALENDAR
VERSION:2.0
PRODID:-//ChamberMaster//Event Calendar 2.0//EN
METHOD:PUBLISH
X-PUBLISHED-TTL:P3D
REFRESH-INTERVAL:P3D
CALSCALE:GREGORIAN
BEGIN:VEVENT
DTSTART:20191007T230000Z
DTEND:20191008T020000Z
X-MICROSOFT-CDO-ALLDAYEVENT:FALSE
SUMMARY:City Council Debate
DESCRIPTION:The Longmont Chamber is proud to host a fast moving and informative City Council Debate. This is your chance to hear your City Council candidates debate important topics such as growth\, business\, transportation\, housing and more!  If you would like to see your question asked\, email debate@longmontchamber.org (personal names and contact information are not used when questions are asked at event).
X-ALT-DESC;FMTTYPE=text/html:The Longmont Chamber is proud to host a fast moving and informative City Council Debate. This is your chance to hear your City Council candidates debate important topics such as growth\, business\, transportation\, housing and more!&nbsp\; If you would like to see your question asked\, email debate@longmontchamber.org (personal names and contact information are not used when questions are asked at event).&nbsp\;
LOCATION:Silver Creek High School\, 4901 Nelson Road\, Longmont\, 80503
UID:e.3083.7322
SEQUENCE:3
DTSTAMP:20260426T005244Z
URL:https://members.longmontchamber.org/events/details/city-council-debate-7322
END:VEVENT

END:VCALENDAR
