BEGIN:VCALENDAR
VERSION:2.0
PRODID:-//ChamberMaster//Event Calendar 2.0//EN
METHOD:PUBLISH
X-PUBLISHED-TTL:P3D
REFRESH-INTERVAL:P3D
CALSCALE:GREGORIAN
BEGIN:VEVENT
DTSTART:20211018T233000Z
DTEND:20211019T020000Z
X-MICROSOFT-CDO-ALLDAYEVENT:FALSE
SUMMARY:City Council Debate October 18\, 2021
DESCRIPTION:The Longmont Chamber is proud to host a fast moving and informative City Council Debate.\n\nThe event will be held virtually via Zoom.\n\nRegister to receive a confirmation email with a link or\n\nClick here to join October 18th at 5:30pm.\n\nThis is your chance to hear your City Council candidates debate important topics such as growth\, business\, transportation\, housing and more!
X-ALT-DESC;FMTTYPE=text/html:<p>The Longmont Chamber is proud to host a fast moving and informative City Council Debate.<br />\nThe event will be held virtually via Zoom.<br />\nRegister to receive a confirmation email with a link or<br />\n<a href="https://us06web.zoom.us/j/85024068625">Click here to join October 18th at 5:30pm.</a></p>\n\n<p>This is your chance to hear your City Council candidates debate important topics such as growth\, business\, transportation\, housing and more!&nbsp\;</p>\n
LOCATION:The debate will be held virtually via Zoom. Click here to join October 18th at 5:30pm.
UID:e.3083.8613
SEQUENCE:3
DTSTAMP:20260424T093546Z
URL:https://members.longmontchamber.org/events/details/city-council-debate-october-18-2021-8613
END:VEVENT

END:VCALENDAR
