BEGIN:VCALENDAR
VERSION:2.0
PRODID:-//ChamberMaster//Event Calendar 2.0//EN
METHOD:PUBLISH
X-PUBLISHED-TTL:P3D
REFRESH-INTERVAL:P3D
CALSCALE:GREGORIAN
BEGIN:VEVENT
DTSTART:20251023T173000Z
DTEND:20251023T190000Z
X-MICROSOFT-CDO-ALLDAYEVENT:FALSE
SUMMARY:Clever Storage Solutions with Kesseböhmer and Concept 32
DESCRIPTION:Join us for an engaging Lunch & Learn at the Concept 32 showroom in Longmont\, featuring our partner Kesseb hmer\, leaders in innovative storage solutions.\n\nThis info-session will showcase how to maximize functionality and style in kitchens\, baths\, and closets. Kesseb hmer will bring their products to life with a show-and-tell demonstration using our showroom kitchen\, giving you hands-on insight into how these systems can transform everyday spaces.
X-ALT-DESC;FMTTYPE=text/html:<p><br />\n<span style="font-size:18px\;"><strong>Join us for an engaging Lunch &amp\; Learn at the Concept 32 showroom in Longmont\, featuring our partner Kesseb&ouml\;hmer\, leaders in innovative storage solutions.</strong></span></p>\n\n<p><span style="font-size:18px\;">This info-session will showcase how to maximize functionality and style in kitchens\, baths\, and closets. Kesseb&ouml\;hmer will bring their products to life with a show-and-tell demonstration using our showroom kitchen\, giving you hands-on insight into how these systems can transform everyday spaces.</span></p>\n
LOCATION:
UID:e.3083.14614
SEQUENCE:3
DTSTAMP:20260421T051538Z
URL:https://members.longmontchamber.org/events/details/clever-storage-solutions-with-kesseb&#246;hmer-and-concept-32-14614
END:VEVENT

END:VCALENDAR
