BEGIN:VCALENDAR
VERSION:2.0
PRODID:-//ChamberMaster//Event Calendar 2.0//EN
METHOD:PUBLISH
X-PUBLISHED-TTL:P3D
REFRESH-INTERVAL:P3D
CALSCALE:GREGORIAN
BEGIN:VEVENT
DTSTART:20250418T134500Z
DTEND:20250418T150000Z
X-MICROSOFT-CDO-ALLDAYEVENT:FALSE
SUMMARY:Coffee Chat at the Colorado Therapeutic Riding Center
DESCRIPTION:Want to make a real impact in your community? Curious about the work done at the Colorado Therapeutic Riding Center? Join us to discover how your business can partner with us to change lives through the power of horses! From sponsorships to volunteer opportunities\, there are so many ways to get involved. RSVP Required: development@ctrcinc.org\, 720.336.1467 (text or call)
X-ALT-DESC;FMTTYPE=text/html:<br />\n<span style="font-size:22px\;"><span style="color: rgb(102\, 102\, 102)\; font-family: &quot\;open sans&quot\;\, sans-serif\;">Want to make a real impact in your community? Curious about the work done at the Colorado Therapeutic Riding Center? Join us to discover how your business can partner with us to change lives through the power of horses! From sponsorships to volunteer opportunities\, there are so many ways to get involved. RSVP Required: development@ctrcinc.org\, 720.336.1467 (text or call)</span></span>
LOCATION:The Colorado Therapeutic Riding Center
UID:e.3083.12678
SEQUENCE:3
DTSTAMP:20260421T143538Z
URL:https://members.longmontchamber.org/events/details/coffee-chat-at-the-colorado-therapeutic-riding-center-04-18-2025-12678
END:VEVENT

END:VCALENDAR
