BEGIN:VCALENDAR
VERSION:2.0
PRODID:-//ChamberMaster//Event Calendar 2.0//EN
METHOD:PUBLISH
X-PUBLISHED-TTL:P3D
REFRESH-INTERVAL:P3D
CALSCALE:GREGORIAN
BEGIN:VEVENT
DTSTART:20250313T134500Z
DTEND:20250313T150000Z
X-MICROSOFT-CDO-ALLDAYEVENT:FALSE
SUMMARY:Coffee Chat at the Colorado Therapeutic Riding Center
DESCRIPTION:Want to make a real impact in your community?  Join us to discover how your business can partner with us to change lives through the power of horses!  From sponsorships to volunteer opportunities\, there are so many ways to get involved.\n\n\n\nRSVP is required: development@ctrcinc.org | 720.336.1467
X-ALT-DESC;FMTTYPE=text/html:<br />\n<span style="font-size:20px\;">Want to make a real impact in your community?&nbsp\; Join us to discover how your business can partner with us to change lives through the power of horses!&nbsp\; From sponsorships to volunteer opportunities\, there are so many ways to get involved.<br />\n<br />\nRSVP is required:&nbsp\;<a href="mailto:development@ctrcinc.org">development@ctrcinc.org</a>&nbsp\;|&nbsp\;<strong>720.336.1467</strong></span>
LOCATION:Colorado Therapeutic Riding Center
UID:e.3083.11153
SEQUENCE:3
DTSTAMP:20260421T174126Z
URL:https://members.longmontchamber.org/events/details/coffee-chat-at-the-colorado-therapeutic-riding-center-11153
END:VEVENT

END:VCALENDAR
