BEGIN:VCALENDAR
VERSION:2.0
PRODID:-//ChamberMaster//Event Calendar 2.0//EN
METHOD:PUBLISH
X-PUBLISHED-TTL:P3D
REFRESH-INTERVAL:P3D
CALSCALE:GREGORIAN
BEGIN:VEVENT
DTSTART:20210122T150000Z
DTEND:20210122T160000Z
X-MICROSOFT-CDO-ALLDAYEVENT:FALSE
SUMMARY:Coffee with the Chair
DESCRIPTION:Coffee with the Chair is a once a month event hosted by the Chamber's 2020/2021 Board Chair\, Chris McGilvray. During the meeting Chris\, and Scott Cook\, Chamber CEO take member questions and update attendees on Chamber activities. In addition\, there are often special guest conversations.  The January meeting will feature Summer Laws\, Policy Analyst with the Boulder Commissioner's Office. Summer will present and take questions on Boulder County's response to Covid-19.
X-ALT-DESC;FMTTYPE=text/html:<p style="font-weight:400\; line-height: 1.7em\;">Coffee with the Chair is a once a month event hosted by the Chamber&#39\;s 2020/2021 Board Chair\, Chris McGilvray. During the meeting Chris\, and Scott Cook\, Chamber CEO take member questions and update attendees on Chamber activities. In addition\, there are often special guest conversations.&nbsp\; The January meeting will feature Summer Laws\, Policy Analyst with the Boulder Commissioner&#39\;s Office. Summer will present and take questions on Boulder County&#39\;s response to Covid-19.</p>\n
LOCATION:
UID:e.3083.7703
SEQUENCE:3
DTSTAMP:20260425T021610Z
URL:https://members.longmontchamber.org/events/details/coffee-with-the-chair-7703
END:VEVENT

END:VCALENDAR
